BEGIN:VCALENDAR
VERSION:2.0
PRODID:-//ChamberMaster//Event Calendar 2.0//EN
METHOD:PUBLISH
X-PUBLISHED-TTL:P3D
REFRESH-INTERVAL:P3D
CALSCALE:GREGORIAN
BEGIN:VEVENT
DTSTART:20211027T210000Z
DTEND:20211027T230000Z
X-MICROSOFT-CDO-ALLDAYEVENT:FALSE
SUMMARY:YPConnect Networking Night
DESCRIPTION:YPConnect is a new initiative by the Collaborative Chambers Alliance (CCA). The goal is to foster a culture of collaboration between existing young professional groups in the greater Cleveland area in order to provide networking\, professional development\, and educational opportunities for professionals age 22-40 in Northeast Ohio.\n\nWe invite you to join the 19 different Chambers of Commerce in the CCA as well as six other young professional organizations from around Northeast Ohio for a great evening of networking\, collaboration\, and connection. Learn about the missions and upcoming events\, programming\, and initiatives for the following young professional groups and get the chance to network with their leadership and members:\n\n\n	Cleveland 20-30 Club\n	Cleveland Global Shapers\n	Playhouse Square Partners\n	The President's Council\n	Plexus LGBT + Allied Chamber of Commerce Young Professionals\n	Young Professionals of Parma\n\n\nThis event is open to all but is specifically designed for young professionals age 22-40. The cost is $10 for anyone who is a member in good standing of a CCA Chamber (view list of participating chambers) or anyone who is a member in good standing with one of the participating young professional organizations listed above. Cost for those who are not paid members of any of the participating organizations is $15.\n\nAppetizers will be provided and a cash bar will be available.\n\n\n\nTo register for this event\, click here.\n\n \n\nCOVID Safety - Please note that this event will be held indoors\, but the space is well ventilated with a large garage door that can be opened. We highly encourage attendees to wear a mask when not actively eating or drinking. It is advised that only those who are fully vaccinated against COVID-19 attend this event. Registration numbers will be capped to allow for social distancing.\n\nWe are following the current health and safety guidelines required by the state of Ohio and our host venue as well as recommendations outlined by the CDC.\n\nBy purchasing an event ticket\, you acknowledge that you understand and will abide by all the health and safety procedures in place at the time of the event including mask and social distancing requirements. In addition\, you voluntarily assume all risks related to exposure to COVID-19 and do not hold event sponsors liable for any health-related issues.\n\nWe reserve the right to deny entrance to anyone exhibiting any of the symptoms:\n\n\n	Fever (equal to or higher than 100.4 F) or chills\n	Cough   Shortness of breath or difficulty breathing\n	Fatigue\n	Muscle or body aches\n	Headache\n	New loss of taste or smell\n	Sore throat\n	Congestion or runny nose\n\n\nWe appreciate your understanding of the measures taken for your protection and the protection of other attendees.
X-ALT-DESC;FMTTYPE=text/html:<p style="margin: 0px\; padding: 0px\; color: rgb(111\, 114\, 135)\; font-size: 16px\; line-height: 1.5rem\; font-family: &quot\;Neue Plak&quot\;\, -apple-system\, BlinkMacSystemFont\, Roboto\, &quot\;Helvetica Neue&quot\;\, Helvetica\, Tahoma\, Arial\, sans-serif\; letter-spacing: 0.5px\;"><span style="font-size:14px\;"><span style="font-family:arial\;">YPConnect is a new initiative by the&nbsp\;<a href="https://collaborativechambers.org/" rel="nofollow noopener noreferrer" style="color: var(--eds-control\,#3659e3)\; text-decoration-line: none\; cursor: pointer\; background-color: transparent\;" target="_blank">Collaborative Chambers Alliance</a>&nbsp\;(CCA). The goal is to foster a culture of collaboration between existing young professional groups in the greater Cleveland area in order to provide networking\, professional development\, and educational opportunities for professionals age 22-40 in Northeast Ohio.</span></span></p>\n\n<p style="margin: 0px\; padding: 10px 0px 0px\; color: rgb(111\, 114\, 135)\; font-size: 16px\; line-height: 1.5rem\; font-family: &quot\;Neue Plak&quot\;\, -apple-system\, BlinkMacSystemFont\, Roboto\, &quot\;Helvetica Neue&quot\;\, Helvetica\, Tahoma\, Arial\, sans-serif\; letter-spacing: 0.5px\;"><span style="font-size:14px\;"><span style="font-family:arial\;">We invite you to join the 19&nbsp\;different Chambers of Commerce in the CCA as well as six&nbsp\;other young professional organizations from around Northeast Ohio for a great evening of networking\, collaboration\, and connection. Learn about the missions and upcoming events\, programming\, and initiatives for the following young professional groups and get the chance to network with their leadership and members:</span></span></p>\n\n<ul style="margin: 0px\; padding-top: 10px\; padding-right: 0px\; padding-left: 2em\; list-style-position: initial\; list-style-image: initial\; color: rgb(111\, 114\, 135)\; font-size: 16px\; line-height: 1.5rem\; font-family: &quot\;Neue Plak&quot\;\, -apple-system\, BlinkMacSystemFont\, Roboto\, &quot\;Helvetica Neue&quot\;\, Helvetica\, Tahoma\, Arial\, sans-serif\; letter-spacing: 0.5px\;">\n	<li style="margin: 0px\; padding: 0px\;"><span style="font-size:14px\;"><span style="font-family:arial\;"><a href="https://cleveland2030.org/" rel="nofollow noopener noreferrer" style="color: var(--eds-control\,#3659e3)\; text-decoration-line: none\; cursor: pointer\; background-color: transparent\; padding-top: 0px\;" target="_blank">Cleveland 20-30 Club</a></span></span></li>\n	<li style="margin: 0px\; padding: 5px 0px 0px\;"><span style="font-size:14px\;"><span style="font-family:arial\;"><a href="https://www.globalshapers.org/hubs/cleveland-hub" rel="nofollow noopener noreferrer" style="color: var(--eds-control\,#3659e3)\; text-decoration-line: none\; cursor: pointer\; background-color: transparent\; padding-top: 0px\;" target="_blank">Cleveland Global Shapers</a></span></span></li>\n	<li style="margin: 0px\; padding: 5px 0px 0px\;"><span style="font-size:14px\;"><span style="font-family:arial\;"><a href="https://www.playhousesquare.org/giving-support-main/donate/partners" rel="nofollow noopener noreferrer" style="color: var(--eds-control\,#3659e3)\; text-decoration-line: none\; cursor: pointer\; background-color: transparent\; padding-top: 0px\;" target="_blank">Playhouse Square Partners</a></span></span></li>\n	<li style="margin: 0px\; padding: 5px 0px 0px\;"><span style="font-size:14px\;"><span style="font-family:arial\;"><a href="https://thepresidentscouncil.com/" rel="nofollow noopener noreferrer" style="color: var(--eds-control\,#3659e3)\; text-decoration-line: none\; cursor: pointer\; background-color: transparent\; padding-top: 0px\;" target="_blank">The President&#39\;s Council</a></span></span></li>\n	<li style="margin: 0px\; padding: 5px 0px 0px\;"><span style="font-size:14px\;"><span style="font-family:arial\;"><a href="https://www.thinkplexus.org/" rel="nofollow noopener noreferrer" style="color: var(--eds-control\,#3659e3)\; text-decoration-line: none\; cursor: pointer\; background-color: transparent\; padding-top: 0px\;" target="_blank">Plexus LGBT + Allied Chamber of Commerce Young Professionals</a></span></span></li>\n	<li style="margin: 0px\; padding: 5px 0px 0px\;"><span style="font-size:14px\;"><span style="font-family:arial\;"><a href="https://parmayps.com/" rel="nofollow noopener noreferrer" style="color: var(--eds-control\,#3659e3)\; text-decoration-line: none\; cursor: pointer\; background-color: transparent\; padding-top: 0px\;" target="_blank">Young Professionals of Parma</a></span></span></li>\n</ul>\n\n<p style="margin: 0px\; padding: 10px 0px 0px\; color: rgb(111\, 114\, 135)\; font-size: 16px\; line-height: 1.5rem\; font-family: &quot\;Neue Plak&quot\;\, -apple-system\, BlinkMacSystemFont\, Roboto\, &quot\;Helvetica Neue&quot\;\, Helvetica\, Tahoma\, Arial\, sans-serif\; letter-spacing: 0.5px\;"><span style="font-size:14px\;"><span style="font-family:arial\;">This event is open to all but is specifically designed for young professionals age 22-40. The cost is $10 for anyone who is a member in good standing of a CCA Chamber (<a href="https://collaborativechambers.org/chambers/" rel="nofollow noopener noreferrer" style="color: var(--eds-control\,#3659e3)\; text-decoration-line: none\; cursor: pointer\; background-color: transparent\; padding-top: 0px\;" target="_blank">view list of participating chambers</a>) or anyone who is a member in good standing with one of the participating young professional organizations listed above. Cost for those who are not paid members of any of the participating organizations is $15.</span></span></p>\n\n<p style="margin: 0px\; padding: 10px 0px 0px\; color: rgb(111\, 114\, 135)\; font-size: 16px\; line-height: 1.5rem\; font-family: &quot\;Neue Plak&quot\;\, -apple-system\, BlinkMacSystemFont\, Roboto\, &quot\;Helvetica Neue&quot\;\, Helvetica\, Tahoma\, Arial\, sans-serif\; letter-spacing: 0.5px\;"><span style="font-size:14px\;"><span style="font-family:arial\;">Appetizers will be provided and a cash bar will be available.<br />\n<br />\n<span style="font-size:18px\;"><strong>To register for this event\, <a href="https://www.eventbrite.com/e/ypconnect-networking-night-tickets-185328832527">click here</a>.</strong></span></span></span><br />\n&nbsp\;</p>\n\n<p style="margin: 0px\; padding: 10px 0px 0px\; color: rgb(111\, 114\, 135)\; font-size: 16px\; line-height: 1.5rem\; font-family: &quot\;Neue Plak&quot\;\, -apple-system\, BlinkMacSystemFont\, Roboto\, &quot\;Helvetica Neue&quot\;\, Helvetica\, Tahoma\, Arial\, sans-serif\; letter-spacing: 0.5px\;"><span style="font-size:14px\;"><span style="font-family:arial\;"><span style="font-weight: 700\; padding-top: 0px\;">COVID Safety -&nbsp\;</span>Please note that this event will be held indoors\, but the space is well ventilated with a large garage door that can be opened. We highly encourage attendees to wear a mask when not actively eating or drinking. It is advised that only those who are fully vaccinated against COVID-19 attend this event. Registration numbers will be capped to allow for social distancing.</span></span></p>\n\n<p style="margin: 0px\; padding: 10px 0px 0px\; color: rgb(111\, 114\, 135)\; font-size: 16px\; line-height: 1.5rem\; font-family: &quot\;Neue Plak&quot\;\, -apple-system\, BlinkMacSystemFont\, Roboto\, &quot\;Helvetica Neue&quot\;\, Helvetica\, Tahoma\, Arial\, sans-serif\; letter-spacing: 0.5px\;"><span style="font-size:14px\;"><span style="font-family:arial\;">We are following the current health and safety guidelines required by the state of Ohio and our host venue as well as recommendations outlined by the CDC.</span></span></p>\n\n<p style="margin: 0px\; padding: 10px 0px 0px\; color: rgb(111\, 114\, 135)\; font-size: 16px\; line-height: 1.5rem\; font-family: &quot\;Neue Plak&quot\;\, -apple-system\, BlinkMacSystemFont\, Roboto\, &quot\;Helvetica Neue&quot\;\, Helvetica\, Tahoma\, Arial\, sans-serif\; letter-spacing: 0.5px\;"><span style="font-size:14px\;"><span style="font-family:arial\;">By purchasing an event ticket\, you acknowledge that you understand and will abide by all the health and safety procedures in place at the time of the event including mask and social distancing requirements. In addition\, you voluntarily assume all risks related to exposure to COVID-19 and do not hold event sponsors liable for any health-related issues.</span></span></p>\n\n<p style="margin: 0px\; padding: 10px 0px 0px\; color: rgb(111\, 114\, 135)\; font-size: 16px\; line-height: 1.5rem\; font-family: &quot\;Neue Plak&quot\;\, -apple-system\, BlinkMacSystemFont\, Roboto\, &quot\;Helvetica Neue&quot\;\, Helvetica\, Tahoma\, Arial\, sans-serif\; letter-spacing: 0.5px\;"><span style="font-size:14px\;"><span style="font-family:arial\;">We reserve the right to deny entrance to anyone exhibiting any of the symptoms:</span></span></p>\n\n<ul style="margin: 0px\; padding-top: 10px\; padding-right: 0px\; padding-left: 2em\; list-style-position: initial\; list-style-image: initial\; color: rgb(111\, 114\, 135)\; font-size: 16px\; line-height: 1.5rem\; font-family: &quot\;Neue Plak&quot\;\, -apple-system\, BlinkMacSystemFont\, Roboto\, &quot\;Helvetica Neue&quot\;\, Helvetica\, Tahoma\, Arial\, sans-serif\; letter-spacing: 0.5px\;">\n	<li style="margin: 0px\; padding: 0px\;"><span style="font-size:14px\;"><span style="font-family:arial\;">Fever (equal to or higher than 100.4&deg\;F) or chills</span></span></li>\n	<li style="margin: 0px\; padding: 5px 0px 0px\;"><span style="font-size:14px\;"><span style="font-family:arial\;">Cough &minus\; Shortness of breath or difficulty breathing</span></span></li>\n	<li style="margin: 0px\; padding: 5px 0px 0px\;"><span style="font-size:14px\;"><span style="font-family:arial\;">Fatigue</span></span></li>\n	<li style="margin: 0px\; padding: 5px 0px 0px\;"><span style="font-size:14px\;"><span style="font-family:arial\;">Muscle or body aches</span></span></li>\n	<li style="margin: 0px\; padding: 5px 0px 0px\;"><span style="font-size:14px\;"><span style="font-family:arial\;">Headache</span></span></li>\n	<li style="margin: 0px\; padding: 5px 0px 0px\;"><span style="font-size:14px\;"><span style="font-family:arial\;">New loss of taste or smell</span></span></li>\n	<li style="margin: 0px\; padding: 5px 0px 0px\;"><span style="font-size:14px\;"><span style="font-family:arial\;">Sore throat</span></span></li>\n	<li style="margin: 0px\; padding: 5px 0px 0px\;"><span style="font-size:14px\;"><span style="font-family:arial\;">Congestion or runny nose</span></span></li>\n</ul>\n\n<p style="margin: 0px\; padding: 10px 0px 0px\; color: rgb(111\, 114\, 135)\; font-size: 16px\; line-height: 1.5rem\; font-family: &quot\;Neue Plak&quot\;\, -apple-system\, BlinkMacSystemFont\, Roboto\, &quot\;Helvetica Neue&quot\;\, Helvetica\, Tahoma\, Arial\, sans-serif\; letter-spacing: 0.5px\;"><span style="font-size:14px\;"><span style="font-family:arial\;">We appreciate your understanding of the measures taken for your protection and the protection of other attendees.</span></span></p>\n
LOCATION:COhatch Ohio City - 2814 Detroit Ave\, Cleveland\, OH 44113
UID:e.368.8439
SEQUENCE:3
DTSTAMP:20260421T140425Z
URL:https://public.beachwood.org/events/details/ypconnect-networking-night-8439
END:VEVENT

END:VCALENDAR
