BEGIN:VCALENDAR
VERSION:2.0
PRODID:-//ChamberMaster//Event Calendar 2.0//EN
METHOD:PUBLISH
X-PUBLISHED-TTL:P3D
REFRESH-INTERVAL:P3D
CALSCALE:GREGORIAN
BEGIN:VEVENT
DTSTART:20080617T210000Z
DTEND:20080617T230000Z
X-MICROSOFT-CDO-ALLDAYEVENT:FALSE
SUMMARY:Young Professionals-Sushi Rock
DESCRIPTION:The Chamber's newest networking group - -The Young Professionals -- for members\, their friends\, co-workers who are under 40 -- will network on Tuesday\, June 17th\, 5-7 PM\, at Sushi Rock at La Place. Sushi Rock is the "ultimate destination for amazing food and atmosphere."  Enjoy scrumptious hors d'oeuvres made from the highest quality ingredients.  Cash bar. Please RSVP to the Chamber online\, by emailing mail@beachwood.org or calling 216-831-0003.
X-ALT-DESC;FMTTYPE=text/html:<div>The Chamber&rsquo\;s newest networking group - -The Young Professionals --&nbsp\;for members\, their friends\, co-workers who are under 40 -- will network on Tuesday\, June 17th\, 5-7 PM\, at Sushi Rock at La Place.</div><div>&nbsp\;</div><div>Sushi Rock is the &quot\;ultimate destination for amazing food and atmosphere.&quot\;&nbsp\; Enjoy scrumptious hors d'oeuvres made from the highest quality ingredients.&nbsp\; Cash bar.</div><div>&nbsp\;</div><div>Please RSVP to the Chamber online\, by emailing <a href="mailto:mail@beachwood.org">mail@beachwood.org</a> or calling 216-831-0003.</div><div>&nbsp\;</div><div>&nbsp\;</div>
LOCATION:Sushi Rockat La Place2101 Richmond RoadBeachwood
UID:e.368.40
SEQUENCE:3
DTSTAMP:20260424T071703Z
URL:https://public.beachwood.org/events/details/young-professionals-sushi-rock-06-17-2008-40
END:VEVENT

END:VCALENDAR
