BEGIN:VCALENDAR
VERSION:2.0
PRODID:-//ChamberMaster//Event Calendar 2.0//EN
METHOD:PUBLISH
X-PUBLISHED-TTL:P3D
REFRESH-INTERVAL:P3D
CALSCALE:GREGORIAN
BEGIN:VEVENT
DTSTART:20080824T050000Z
DTEND:20080824T050000Z
X-MICROSOFT-CDO-ALLDAYEVENT:FALSE
SUMMARY:YOUNG PROFESSIONALS--NO AUGUST EVENT
DESCRIPTION:The Young Professional Group (under 40) will not get together in August.Watch the Chamber Calendar for September.If you would like added to our Young Professional email list\, please email mail@beachwood.org.
X-ALT-DESC;FMTTYPE=text/html:<p align="center"><font color="#003366">The Young Professional Group (under 40) will not get together in August.</font></p><p align="center"><font color="#003366">Watch the&nbsp\;Chamber Calendar for&nbsp\;September.</font></p><p align="center"><font color="#003366"><em>If you would like added to our Young Professional email list\, please email </em></font><a href="mailto:mail@beachwood.org"><font color="#003366"><em>mail@beachwood.org</em></font></a><font color="#003366"><em>.</em></font></p><p>&nbsp\;</p>
LOCATION:
UID:e.368.70
SEQUENCE:3
DTSTAMP:20260424T043900Z
URL:https://public.beachwood.org/events/details/young-professionals-no-august-event-08-24-2008-70
END:VEVENT

END:VCALENDAR
