BEGIN:VCALENDAR
VERSION:2.0
PRODID:-//ChamberMaster//Event Calendar 2.0//EN
METHOD:PUBLISH
X-PUBLISHED-TTL:P3D
REFRESH-INTERVAL:P3D
CALSCALE:GREGORIAN
BEGIN:VEVENT
DTSTART:20090311T210000Z
DTEND:20090311T230000Z
X-MICROSOFT-CDO-ALLDAYEVENT:FALSE
SUMMARY:YOUNG PROFESSIONALS - MARCH
DESCRIPTION:This month we have a "fun" evening planned for you to go along with the networking. The Young Professional Group is for Chamber members\, their employees\, and friends and acquaintances 40ish and under to network with peers. Join the Chamber's Young Professional's at Jillian's on Wednesday\, March 11th\, 5-7 PM.  What is Jillian's?  A restaurant with "Jillian" things to do!18 pool tablesPlasma TVsInteractive gamesand more!So come and enjoy!  Network ... Schmooze ... Eat  (cash bar) ... & more.\nWe would appreciate RSVPs. Walk-ins are always welcome. See you on the 11th!
X-ALT-DESC;FMTTYPE=text/html:<div>This month we have a &quot\;fun&quot\; evening planned for you to go along with the networking.</div><div>&nbsp\;</div><div>The Young Professional Group is for Chamber members\, their employees\, and friends and acquaintances 40ish and under to network with peers.</div><div>&nbsp\;</div><div>Join the Chamber's Young Professional's at Jillian's on Wednesday\, March 11th\, 5-7 PM.&nbsp\; What is Jillian's?&nbsp\; A restaurant with &quot\;Jillian&quot\; things to do!</div><ul><li>18 pool tables</li><li>Plasma TVs</li><li>Interactive games</li><li>and more!</li></ul><div>So come and enjoy!&nbsp\; Network ...&nbsp\;Schmooze ...&nbsp\;Eat&nbsp\; (cash bar) ... &amp\; more.</div><div><br />We would appreciate RSVPs. Walk-ins are always welcome.</div><div>&nbsp\;</div><div>See you on the 11th!</div>
LOCATION:Jillian's12559 Cedar RoadCleveland Hts
UID:e.368.162
SEQUENCE:3
DTSTAMP:20260423T202230Z
URL:https://public.beachwood.org/events/details/young-professionals-march-03-11-2009-162
END:VEVENT

END:VCALENDAR
