BEGIN:VCALENDAR
VERSION:2.0
PRODID:-//ChamberMaster//Event Calendar 2.0//EN
METHOD:PUBLISH
X-PUBLISHED-TTL:P3D
REFRESH-INTERVAL:P3D
CALSCALE:GREGORIAN
BEGIN:VEVENT
DTSTART:20090114T220000Z
DTEND:20090115T000000Z
X-MICROSOFT-CDO-ALLDAYEVENT:FALSE
SUMMARY:YOUNG PROFESSIONALS - JANUARY
DESCRIPTION:The Chamber's Young Professional Chairs are in the process of planning a very interesting and varied schedule of locations and activities for 2009.They are starting off the year where we held our initial session of the Young Professional Group (40ish and younger) at ...Maggiano's Little Italy\non Wednesday\, January 14th\n5-7 PMIf you've attended Chamber events at Maggiano's\, you are well aware of the warm and gracious welcome that we received\, the excellent food served there\, and the wonderful experience everyone has.  So ... what better location to start 2009!We look forward to welcoming you\, your friends\, and business associates on the 14th.Cost: No charge!RSVP:  Online\, by emailing mail@beachwood.org\, or by calling the Chamber at 216-831-0003.
X-ALT-DESC;FMTTYPE=text/html:<p><font color="#000080">The Chamber's Young Professional Chairs are in the process of planning a very interesting and varied schedule of locations and activities for 2009.</font></p><p><font color="#000080">They are starting off the year where we held our initial session of the Young Professional Group (40ish and younger) at ...</font></p><p align="center"><font color="#000080" size="3"><strong>Maggiano's Little Italy<br />on Wednesday\, January 14th<br />5-7 PM</strong></font></p><p><font color="#000080">If you've attended Chamber events at Maggiano's\, you are well aware of the warm and gracious welcome that we received\, the excellent food served there\, and the wonderful experience everyone has.&nbsp\; So ... what better location to start 2009!</font></p><p><font color="#000080">We look forward to welcoming you\, your friends\, and business associates on the 14th.</font></p><p><font color="#000080">Cost: No charge!</font></p><p><font color="#000080">RSVP:&nbsp\; Online\, by emailing </font><a href="mailto:mail@beachwood.org"><font color="#000080">mail@beachwood.org</font></a><font color="#000080">\, or by calling the Chamber at 216-831-0003.</font></p>
LOCATION:Maggiano's Little ItalyBeachwood Place(by mall's Cedar Road entrance)
UID:e.368.133
SEQUENCE:3
DTSTAMP:20260423T223806Z
URL:https://public.beachwood.org/events/details/young-professionals-january-01-14-2009-133
END:VEVENT

END:VCALENDAR
