BEGIN:VCALENDAR
VERSION:2.0
PRODID:-//ChamberMaster//Event Calendar 2.0//EN
METHOD:PUBLISH
X-PUBLISHED-TTL:P3D
REFRESH-INTERVAL:P3D
CALSCALE:GREGORIAN
BEGIN:VEVENT
DTSTART:20090211T220000Z
DTEND:20090212T000000Z
X-MICROSOFT-CDO-ALLDAYEVENT:FALSE
SUMMARY:YOUNG PROFESSIONALS - FEB 2009
DESCRIPTION:Join the Beachwood Chamber Young Professionals (40ish & under) for informal networking on Wednesday\, February 11th\, 5-7 PM\, at McCormick & Schmick'sat Beachwood Placeby mall's Cedar Road entrance McCormick & Schmick's is one of the area's newer seafood restaurants with menus printed daily featuring a "fresh list" of more than 30 seafood species. The restaurant provides liberal portions at reasonable prices.  There are also hand-crafted cocktails. Online RSVPs are greatly appreciated\, or you may email mail@beachwood.org or call the Chamber at 216-831-0003. This is a free program for Chamber members and nonmembers.
X-ALT-DESC;FMTTYPE=text/html:<div><font color="#000080" size="2">Join the Beachwood Chamber Young Professionals (40ish &amp\; under) for informal networking on Wednesday\, February 11th\, 5-7 PM\, at</font></div><div>&nbsp\;</div><div align="center"><font color="#000080" size="3">McCormick &amp\; Schmick's</font></div><div align="center"><font color="#000080" size="3">at Beachwood Place</font></div><div align="center"><font color="#000080" size="3">by mall's Cedar Road entrance</font></div><div>&nbsp\;</div><div><font color="#000080" size="2">McCormick &amp\; Schmick's is one of the area's newer seafood restaurants with menus printed daily featuring a &quot\;fresh list&quot\; of more than 30 seafood species. The restaurant&nbsp\;provides liberal portions at reasonable prices.&nbsp\; There are also hand-crafted cocktails.</font></div><div>&nbsp\;</div><div><font color="#000080">Online RSVPs are greatly appreciated\, or you may email <a href="mailto:mail@beachwood.org">mail@beachwood.org</a> or call the Chamber at 216-831-0003.</font></div><div>&nbsp\;</div><div><font color="#000080">This is a free program for Chamber members and nonmembers.</font></div>
LOCATION:McCormick & Schmick'sBeachwood Placeby Cedar Road mall entrance
UID:e.368.143
SEQUENCE:3
DTSTAMP:20260423T212821Z
URL:https://public.beachwood.org/events/details/young-professionals-feb-2009-02-11-2009-143
END:VEVENT

END:VCALENDAR
