BEGIN:VCALENDAR
VERSION:2.0
PRODID:-//ChamberMaster//Event Calendar 2.0//EN
METHOD:PUBLISH
X-PUBLISHED-TTL:P3D
REFRESH-INTERVAL:P3D
CALSCALE:GREGORIAN
BEGIN:VEVENT
DTSTART:20080717T210000Z
DTEND:20080717T230000Z
X-MICROSOFT-CDO-ALLDAYEVENT:FALSE
SUMMARY:YOUNG PROFESSIONALS at the CLARION
DESCRIPTION:The Chamber's Young Professional Group continues to grow.  If you are under 40\, please join other Young Professionals at the Clarion Hotel at the corner of Chagrin Blvd and Park East Drive on Thursday\, July 17th\, for an evening of fun\, camaraderie\, and networking.We're looking for warm weather\, very soft breezes\, and a gentle sun as the group gathers outdoors\, poolside (sorry\, no swimming!) for an enjoyable evening.Cost: Free to members\, $10 nonmembersRSVP: Very much appreciated! Walk-ins always welcome.
X-ALT-DESC;FMTTYPE=text/html:<p>The Chamber&rsquo\;s Young Professional Group continues to grow.&nbsp\; If you are under 40\, please join other Young Professionals at the <strong><a href="http://choicehotels.com">Clarion Hotel</a></strong> at the corner of Chagrin Blvd and Park East Drive on Thursday\, July 17th\, for an evening of fun\, camaraderie\, and&nbsp\;networking.</p><p>We&rsquo\;re looking for warm weather\, very soft breezes\, and a gentle sun as the group gathers outdoors\, poolside (sorry\, no swimming!) for an enjoyable evening.</p><p>Cost: Free to members\, $10 nonmembers</p><p>RSVP: Very much appreciated! Walk-ins always welcome.</p>
LOCATION:Clarion HotelCorner of Chagrin & Park East DriveIn Beachwood
UID:e.368.58
SEQUENCE:3
DTSTAMP:20260424T060336Z
URL:https://public.beachwood.org/events/details/young-professionals-at-the-clarion-07-17-2008-58
END:VEVENT

END:VCALENDAR
