BEGIN:VCALENDAR
VERSION:2.0
PRODID:-//ChamberMaster//Event Calendar 2.0//EN
METHOD:PUBLISH
X-PUBLISHED-TTL:P3D
REFRESH-INTERVAL:P3D
CALSCALE:GREGORIAN
BEGIN:VEVENT
DTSTART:20081022T210000Z
DTEND:20081022T230000Z
X-MICROSOFT-CDO-ALLDAYEVENT:FALSE
SUMMARY:YOUNG PROFESSIONALS at MELANGE
DESCRIPTION:Our Young Professional Group (under 40) will hold its next get-together on Wednesday\, October 22nd\, 5-7 PM\, at Melange at La Place.Join other under 40s for an evening of informal networking\, great food\, cash bar\, and an opportunity to hone your networking skills under the tutelage of Wendy Schwarz\, the Goddess of NetworkingRSVPs greatly appreciated.Cost: This event is FREE to members and nonmembers.
X-ALT-DESC;FMTTYPE=text/html:<p>Our Young Professional Group (under 40) will hold its next get-together on Wednesday\, October 22nd\, 5-7 PM\, at Melange at La Place.</p><p>Join other under 40s for an evening of informal networking\, great food\, cash bar\, and an opportunity to hone your networking skills under the tutelage of Wendy Schwarz\, the Goddess of Networking</p><p>RSVPs greatly appreciated.</p><p>Cost: This event is FREE to members and nonmembers.</p>
LOCATION:Melange La Place Corner Richmond & Cedar Roads In Beachwood
UID:e.368.93
SEQUENCE:3
DTSTAMP:20260424T021128Z
URL:https://public.beachwood.org/events/details/young-professionals-at-melange-10-22-2008-93
END:VEVENT

END:VCALENDAR
