BEGIN:VCALENDAR
VERSION:2.0
PRODID:-//ChamberMaster//Event Calendar 2.0//EN
METHOD:PUBLISH
X-PUBLISHED-TTL:P3D
REFRESH-INTERVAL:P3D
CALSCALE:GREGORIAN
BEGIN:VEVENT
DTSTART:20080520T210000Z
DTEND:20080520T230000Z
X-MICROSOFT-CDO-ALLDAYEVENT:FALSE
SUMMARY:Young Professionals at Ly's Thai Gourmet
DESCRIPTION:The Chamber's newest group -- The Young Professionals -- for those under 40 continues to grow in popularity. Join the group on Tuesday\, May 20th at Ly's Thai Gourmet\, 25800 Central Parkway in Beachwood for an evening of networking\, camaraderie\, and a good time! Central Parkway runs off of Enterprise Parkway (which is between Science Park Drive and Chagrin Blvd.).  A map is attached to assist. There is no charge for Chamber members and a $10 charge for nonmembers. Please RSVP.  Thank you!
X-ALT-DESC;FMTTYPE=text/html:<div><font color="#333399">The Chamber&rsquo\;s newest group -- The Young Professionals -- for those under 40 continues to grow in popularity.</font></div><div><font color="#333399">&nbsp\;</font></div><div><font color="#333399">Join the group on Tuesday\, May 20th at Ly&rsquo\;s Thai Gourmet\, 25800 Central Parkway in Beachwood for an evening of networking\, camaraderie\, and a good time!</font></div><div>&nbsp\;</div><div><font color="#333399">Central Parkway runs off of Enterprise Parkway (which is between Science Park Drive and Chagrin Blvd.).&nbsp\; A map is attached to assist.</font></div><div><font color="#333399">&nbsp\;</font></div><div><font color="#333399">There is no charge for Chamber members and a $10 charge for nonmembers.</font></div><div><font color="#333399">&nbsp\;</font></div><div><font color="#333399">Please RSVP.&nbsp\; Thank you!</font></div>
LOCATION:Ly's Thai Gourmet25800 Central ParkwayBeachwood
UID:e.368.31
SEQUENCE:3
DTSTAMP:20260424T085009Z
URL:https://public.beachwood.org/events/details/young-professionals-at-ly-s-thai-gourmet-05-20-2008-31
END:VEVENT

END:VCALENDAR
