BEGIN:VCALENDAR
VERSION:2.0
PRODID:-//ChamberMaster//Event Calendar 2.0//EN
METHOD:PUBLISH
X-PUBLISHED-TTL:P3D
REFRESH-INTERVAL:P3D
CALSCALE:GREGORIAN
BEGIN:VEVENT
DTSTART:20090407T213000Z
DTEND:20090407T223000Z
X-MICROSOFT-CDO-ALLDAYEVENT:FALSE
SUMMARY:YOUNG PROFESSIONALS- APRIL
DESCRIPTION:We have a great committee for our Young Professional Group to plan upcoming events. Our April event is just before the holidays.  Join our YPs for an informal get-together at the Mandel Jewish Community Center.  A room has been set aside for us to meet. Do you just want to mingle?Want a chance to see what the JCC has to offer? Meet at the Subway (just inside the main entrance to the JCC).  The time has been changed to 5:30 PM to give you a chance to get to events from work. This is a FREE event for Chamber members and for nonmembers!
X-ALT-DESC;FMTTYPE=text/html:<div>We have a great committee for our Young Professional Group to plan upcoming events.</div><div>&nbsp\;</div><div>Our April event is just before the holidays.&nbsp\; Join our YPs for an informal get-together at the Mandel Jewish Community Center.&nbsp\; A room has been set aside for us to meet.</div><div>&nbsp\;</div><div>Do you just want to mingle?</div><div>Want a chance to see what the JCC has to offer?</div><div>&nbsp\;</div><div><strong>Meet at the Subway (just inside the main entrance to the JCC).&nbsp\;&nbsp\;The time has been changed to 5:30 PM to give you a chance to get to events from work.</strong></div><div>&nbsp\;</div><div>This is a FREE event for Chamber members and for nonmembers!</div>
LOCATION:Mandel Jewish Community Center26001 S. Woodland RoadBeachwood
UID:e.368.181
SEQUENCE:3
DTSTAMP:20260423T191925Z
URL:https://public.beachwood.org/events/details/young-professionals-april-04-07-2009-181
END:VEVENT

END:VCALENDAR
