BEGIN:VCALENDAR
VERSION:2.0
PRODID:-//ChamberMaster//Event Calendar 2.0//EN
METHOD:PUBLISH
X-PUBLISHED-TTL:P3D
REFRESH-INTERVAL:P3D
CALSCALE:GREGORIAN
BEGIN:VEVENT
DTSTART:20080415T210000Z
DTEND:20080415T230000Z
X-MICROSOFT-CDO-ALLDAYEVENT:FALSE
SUMMARY:Young Professionals
DESCRIPTION:TAX DAY SPECIAL -- Finish your taxes and celebrate with the Young Professionals at The Melting Pot\, 5-7 PM on Tuesday\, April 15th\, at Legacy Village. The Beachwood Chamber's Young Professional Group is for members under 40 years of age who want to network with their peers. Not under 40? Do you know of someone who might like to participate?  Let us know their name\, phone\, and email and we will add them to our email list for these events.  Email: mail@beachwood.org with the information.
X-ALT-DESC;FMTTYPE=text/html:<div><font color="#800000"><strong>TAX&nbsp\;DAY SPECIAL</strong></font> <font color="#000080">-- Finish your taxes and celebrate with the Young Professionals at The Melting Pot\, 5-7 PM on Tuesday\, April 15th\, at Legacy Village.</font></div><div>&nbsp\;</div><div><font color="#333399"><strong><em>The Beachwood Chamber's Young Professional Group</em></strong> is for members under 40 years of age who want to network with their peers.</font></div><div>&nbsp\;</div><div><font color="#333399">Not under 40? Do you know of someone who might like to participate?&nbsp\; Let us know their name\, phone\, and email and we will add them to our email list for these events.&nbsp\; Email: </font><a href="mailto:mail@beachwood.org"><font color="#333399">mail@beachwood.org</font></a><font color="#333399">&nbsp\;with the information.</font></div>
LOCATION:The Melting PotLegacy Village24741 Cedar RoadLyndhurst(located on 2nd floor of building housing Starbucks)
UID:e.368.6
SEQUENCE:3
DTSTAMP:20260424T101953Z
URL:https://public.beachwood.org/events/details/young-professionals-04-15-2008-6
END:VEVENT

END:VCALENDAR
