BEGIN:VCALENDAR
VERSION:2.0
PRODID:-//ChamberMaster//Event Calendar 2.0//EN
METHOD:PUBLISH
X-PUBLISHED-TTL:P3D
REFRESH-INTERVAL:P3D
CALSCALE:GREGORIAN
BEGIN:VEVENT
DTSTART:20080617T223000Z
DTEND:20080617T233000Z
X-MICROSOFT-CDO-ALLDAYEVENT:FALSE
SUMMARY:''You Are Not a Victim of Your Metabolism\, You Are The Creator!''
DESCRIPTION:Stop being a victim and learn everything you need to know to speed up your metabolism and why your body wants to store fat. Many of the myths about muscle\, cardio-only exercise programs\, carbs and calorie-restriction will be debunked and leave you with a clear picture of how to take control of your metabolism. \n\nSeminar is given by John Henry Creel\, owner of Mind & Body Fitness\, Inc. and author of the fitness and nutrition book C-REEL RESULTS: 12 Weeks to Permanent Fat Loss and Weight Management. John Henry is the official trainer of the NBA's own Cleveland Cavalier Dance Team and has repeatedly been named one of the Top 100 Trainers in the Nation by Men's Journal Magazine.
X-ALT-DESC;FMTTYPE=text/html:Stop being a victim and learn everything you need to know to speed up your metabolism and why your body wants to store fat. Many of the myths about muscle\, cardio-only exercise programs\, carbs and calorie-restriction will be debunked and leave you with a clear picture of how to take control of your metabolism. \n\nSeminar is given by John Henry Creel\, owner of Mind & Body Fitness\, Inc. and author of the fitness and nutrition book C-REEL RESULTS: 12 Weeks to Permanent Fat Loss and Weight Management. John Henry is the official trainer of the NBA's own Cleveland Cavalier Dance Team and has repeatedly been named one of the Top 100 Trainers in the Nation by Men's Journal Magazine.
LOCATION:Mind & Body Fitness\, Inc.\, 23215 Mercantile Road\, Beachwood\, OH 44122
UID:e.368.50
SEQUENCE:3
DTSTAMP:20260424T071949Z
URL:https://public.beachwood.org/events/details/you-are-not-a-victim-of-your-metabolism-you-are-the-creator-06-17-2008-50
END:VEVENT

END:VCALENDAR
