BEGIN:VCALENDAR
VERSION:2.0
PRODID:-//ChamberMaster//Event Calendar 2.0//EN
METHOD:PUBLISH
X-PUBLISHED-TTL:P3D
REFRESH-INTERVAL:P3D
CALSCALE:GREGORIAN
BEGIN:VEVENT
DTSTART:20141004T130000Z
DTEND:20141004T140000Z
X-MICROSOFT-CDO-ALLDAYEVENT:FALSE
SUMMARY:Yom Kippur Children's Service at Suburban Temple-Kol Ami!
DESCRIPTION:Please join us for our children's Come Grow With Me Yom Kippur service!\n\nThis is designed for very young children and their families to experience and learn about Rosh Hashana in an engaging and dynamic manner!
X-ALT-DESC;FMTTYPE=text/html:Please join us for our children&#39\;s Come Grow With Me&nbsp\;Yom Kippur&nbsp\;service!<br />\nThis is designed for very young children and their families to experience and learn about Rosh Hashana in an engaging and dynamic manner!
LOCATION:Suburban Temple-Kol Ami
UID:e.368.1174
SEQUENCE:3
DTSTAMP:20260420T003155Z
URL:https://public.beachwood.org/events/details/yom-kippur-children-s-service-at-suburban-temple-kol-ami-10-04-2014-1174
END:VEVENT

END:VCALENDAR
