BEGIN:VCALENDAR
VERSION:2.0
PRODID:-//ChamberMaster//Event Calendar 2.0//EN
METHOD:PUBLISH
X-PUBLISHED-TTL:P3D
REFRESH-INTERVAL:P3D
CALSCALE:GREGORIAN
BEGIN:VEVENT
DTSTART:20081016T150000Z
DTEND:20081016T170000Z
X-MICROSOFT-CDO-ALLDAYEVENT:FALSE
SUMMARY:Work-Life Balance...Got Solutions?
DESCRIPTION:The University of Phoenix-Cleveland Campus &Capital Health Care Solutions present a FREE Healthcare CEU: Work-Life Balance...Got Solutions? Learn to identify and recognize different types of stress. Obtain skills and a variety of techniques and tools to utilize in managing stress.  Facilitators for this presentation are Renay Clark-Watt\, Regional Vice President for Capital Healthcare Solutions\, Inc.Larry Fergus\, Campus College Chair of Health & Human Services for the University of Phoenix-Cleveland CampusesJeany Tri\, Campus College Chair for the College of Arts & Sciences at the University of Phoenix(Click here for their bios) Mini Health Fair at Enterprise Cafe\, includesThe Jewish Community CenterDr. Senders Peaceful ParentingDr. Lee D'Lorge-Cener for Learning & DevelopmentGNCLake Erie Brain Performance InstituteConcordia Care& more October 16th\, 11 AM-1 PMat the University of Phoenix Beachwood Campus3401 Enterprise Parkway FREE Nursing CEU & Lunch This CE activity\, OLN-S-1035-08\, has been aprpoved by the Ohio Board of Nursing through the approver unit at the Ohio League for Nursing (OBN-006-92) and this program may be presented through July 21\, 2010. In order to receive contact hours\, the participants must be present during the entire program and submit a completed evaluation sheet to receive a certificate.
X-ALT-DESC;FMTTYPE=text/html:<div align="center"><font color="#333399" size="2">The University of Phoenix-Cleveland Campus &amp\;</font></div><div align="center"><font color="#333399" size="2">Capital Health Care Solutions</font></div><div align="center">&nbsp\;</div><div align="center"><font color="#333399">present a <strong>FREE </strong>Healthcare CEU:</font></div><div align="center">&nbsp\;</div><div align="center"><font color="#333399" size="3"><strong>Work-Life Balance...Got Solutions?</strong></font></div><div align="center">&nbsp\;</div><div><font color="#333399">Learn to identify and recognize different types of stress. Obtain skills and a variety of techniques and tools to utilize in managing stress.&nbsp\; Facilitators for this presentation are </font></div><ul><li><font color="#333399">Renay Clark-Watt\, Regional Vice President for Capital Healthcare Solutions\, Inc.</font></li><li><font color="#333399">Larry Fergus\, Campus College Chair of Health &amp\; Human Services for the University of Phoenix-Cleveland Campuses</font></li><li><font color="#333399">Jeany Tri\, Campus College Chair for the College of Arts &amp\; Sciences at the University of Phoenix</font></li></ul><div><font color="#333399">(<a href="https://secure.chambermaster.com/FCKeditor/UserFiles/chambers/368/File/UnivPhoenFlyer2008.pdf">Click here for their bios</a>)</font></div><div>&nbsp\;</div><div><font color="#333399">Mini Health Fair at Enterprise Cafe\, includes</font></div><div><li><font color="#333399">The Jewish Community Center</font></li><li><font color="#333399">Dr. Senders Peaceful Parenting</font></li><li><font color="#333399">Dr. Lee D&rsquo\;Lorge-Cener for Learning &amp\; Development</font></li><li><font color="#333399">GNC</font></li><li><font color="#333399">Lake Erie Brain Performance Institute</font></li><li><font color="#333399">Concordia Care</font></li><li><font color="#333399">&amp\; more</font></li></div><div>&nbsp\;</div><div><font color="#333399">October 16th\, 11 AM-1 PM</font></div><div><font color="#333399">at the University of Phoenix Beachwood Campus</font></div><div><font color="#333399">3401 Enterprise Parkway</font></div><div>&nbsp\;</div><div><font color="#333399">FREE Nursing CEU &amp\; Lunch</font></div><div>&nbsp\;</div><div><font color="#333399">This CE activity\, OLN-S-1035-08\, has been aprpoved by the Ohio Board of Nursing through the approver unit at the Ohio League for Nursing (OBN-006-92) and this program may be presented through July 21\, 2010.</font></div><div>&nbsp\;</div><div><font color="#333399">In order to receive contact hours\, the participants must be present during the entire program and submit a completed evaluation sheet to receive a certificate.</font></div>
LOCATION:University of PhoenixBeachwood Campus3401 Enterprise PkwyBeachwood
UID:e.368.98
SEQUENCE:3
DTSTAMP:20260424T021116Z
URL:https://public.beachwood.org/events/details/work-life-balance-got-solutions-10-16-2008-98
END:VEVENT

END:VCALENDAR
