BEGIN:VCALENDAR
VERSION:2.0
PRODID:-//ChamberMaster//Event Calendar 2.0//EN
METHOD:PUBLISH
X-PUBLISHED-TTL:P3D
REFRESH-INTERVAL:P3D
CALSCALE:GREGORIAN
BEGIN:VEVENT
DTSTART:20220413T153000Z
DTEND:20220413T170000Z
X-MICROSOFT-CDO-ALLDAYEVENT:FALSE
SUMMARY:Women's Connection: Vision Board Workshop
DESCRIPTION:Set the tone for the future you want with a meaningful new vision board! Manifestation and creativity meet in this hands-on class\, in which you'll create a vision board representing your goals and dreams. We'll also engage in interactive exercises and journaling to further crystallize your vision.\n\n\n\nLunch and beverages are included with your registration. This event will be limited to the first 15 participants and is open to all women as well as allies and advocates.\n\n\n\nThis workshop will be facilitated by Jen Jones Donatelli\, founder of Creative Groove\, which provides both online and in-person courses\, coaching\, and community in the areas of writing\, creativity\, fulfillment\, and the Artist's Way. She is also a trained Co-Active coach and creative facilitator\, as well as a published author and seasoned journalist whose work has appeared in national publications including Glamour\, REDBOOK\, Parade\, Playboy\, and many more. Jen is a proud graduate of Ohio University's E.W. Scripps School of Journalism.
X-ALT-DESC;FMTTYPE=text/html:<span style="color: rgb(85\, 85\, 85)\; font-family: Calibri\, sans-serif\; font-size: 14.6667px\;">Set the tone for the future you want with a meaningful new vision board! Manifestation and creativity meet in this hands-on class\, in which you&#39\;ll create a vision board representing your goals and dreams. We&#39\;ll also engage in interactive exercises and journaling to further crystallize your vision.<br />\n<br />\nLunch and beverages are included with your registration. <strong>This event will be limited to the first 15 participants and is open to all women as well as allies and advocates.</strong><br />\n<br />\nThis workshop will be facilitated by Jen Jones Donatelli\, founder of Creative Groove\,&nbsp\;which provides both online and in-person courses\, coaching\, and community in the areas of writing\, creativity\, fulfillment\, and the Artist&#39\;s Way. She is also a trained Co-Active coach and creative facilitator\, as well as a published author and seasoned journalist whose work has appeared in national publications including Glamour\, REDBOOK\, Parade\, Playboy\, and many more. Jen is a proud graduate of Ohio University&#39\;s E.W. Scripps School of Journalism.</span>
LOCATION:Fit Learning 30559 Pinetree Rd.\, #211 Pepper Pike
UID:e.368.8475
SEQUENCE:3
DTSTAMP:20260421T222324Z
URL:https://public.beachwood.org/events/details/women-s-connection-vision-board-workshop-8475
END:VEVENT

END:VCALENDAR
