BEGIN:VCALENDAR
VERSION:2.0
PRODID:-//ChamberMaster//Event Calendar 2.0//EN
METHOD:PUBLISH
X-PUBLISHED-TTL:P3D
REFRESH-INTERVAL:P3D
CALSCALE:GREGORIAN
BEGIN:VEVENT
DTSTART:20210422T154500Z
DTEND:20210422T170000Z
X-MICROSOFT-CDO-ALLDAYEVENT:FALSE
SUMMARY:Women's Connection: Using Blogs and Video to Reach Your Target Audience
DESCRIPTION:As a mother of five\, Susan Borison felt she benefited from baby and child publications that provided advice on child-rearing\, but found there was nothing out there for raising teenagers. That led her to co-found Your Teen Media.\nA graduate of the Goldman Sachs 10\,000 Small Businesses program\, Borison leads a team of nine employees and multiple contractors to provide innovative solutions and ideas to clients and readers of Your Teen Magazine. To keep the business going\, she raised capital and brought in outside experts to analyze the industry and leverage the company's experience.\n\n\n\nShe will present on how Your Teen uses blogs and video to reach their target audience\, and will teach you how to do the same with your own business.
X-ALT-DESC;FMTTYPE=text/html:<span style="color: rgb(85\, 85\, 85)\; font-family: &quot\;Helvetica Neue&quot\;\, Helvetica\, Arial\, &quot\;Lucida Grande&quot\;\, sans-serif\; font-size: 14px\; background-color: rgb(255\, 255\, 255)\;">As a mother of five\, Susan&nbsp\;</span><span class="markbiwda7wqa" data-markjs="true" data-ogab="" data-ogac="" data-ogsb="" data-ogsc="" style="margin: 0px\; padding: 0px\; border: 0px\; font-variant-numeric: inherit\; font-variant-east-asian: inherit\; font-stretch: inherit\; font-size: 14px\; line-height: inherit\; font-family: &quot\;Helvetica Neue&quot\;\, Helvetica\, Arial\, &quot\;Lucida Grande&quot\;\, sans-serif\; vertical-align: baseline\; color: rgb(85\, 85\, 85)\; background-color: rgb(255\, 255\, 255)\;">Borison</span><span style="color: rgb(85\, 85\, 85)\; font-family: &quot\;Helvetica Neue&quot\;\, Helvetica\, Arial\, &quot\;Lucida Grande&quot\;\, sans-serif\; font-size: 14px\; background-color: rgb(255\, 255\, 255)\;">&nbsp\;felt she benefited from baby and child publications that provided advice on child-rearing\, but found there was nothing out there for raising teenagers. That led her to co-found Your Teen Media.</span>\n<p style="margin: 10px 0px\; padding: 0px\; color: rgb(85\, 85\, 85)\; font-family: &quot\;Helvetica Neue&quot\;\, Helvetica\, Arial\, &quot\;Lucida Grande&quot\;\, sans-serif\; font-size: 14px\; line-height: 21px\; background-color: rgb(255\, 255\, 255)\;">A graduate of the Goldman Sachs 10\,000 Small Businesses program\,&nbsp\;<span class="markbiwda7wqa" data-markjs="true" data-ogab="" data-ogac="" data-ogsb="" data-ogsc="" style="margin: 0px\; padding: 0px\; border: 0px\; font: inherit\; vertical-align: baseline\; color: inherit\;">Borison</span>&nbsp\;leads a team of nine employees and multiple contractors to provide innovative solutions and ideas to clients and readers of Your Teen Magazine. To keep the business going\, she raised capital and brought in outside experts to analyze the industry and leverage the company&rsquo\;s experience.<br />\n<br />\nShe will present on how Your Teen uses blogs and video to reach their target audience\, and will teach you how to do the same with your own business.</p>\n
LOCATION:
UID:e.368.8408
SEQUENCE:3
DTSTAMP:20260421T123029Z
URL:https://public.beachwood.org/events/details/women-s-connection-using-blogs-and-video-to-reach-your-target-audience-8408
END:VEVENT

END:VCALENDAR
