BEGIN:VCALENDAR
VERSION:2.0
PRODID:-//ChamberMaster//Event Calendar 2.0//EN
METHOD:PUBLISH
X-PUBLISHED-TTL:P3D
REFRESH-INTERVAL:P3D
CALSCALE:GREGORIAN
BEGIN:VEVENT
DTSTART:20210722T123000Z
DTEND:20210722T133000Z
X-MICROSOFT-CDO-ALLDAYEVENT:FALSE
SUMMARY:Women's Connection: Self Marketing - Do's and Don'ts
DESCRIPTION:Join us in person as we hear from Sally Spitz\, Social Media Director at Infiniti of Beachwood about how to  market yourself and your brand on Social Media.
X-ALT-DESC;FMTTYPE=text/html:<span style="color: rgb(64\, 63\, 66)\; font-family: Arial\, Verdana\, Helvetica\, sans-serif\; font-size: 12px\; white-space: pre-wrap\;">Join us in person as we hear from Sally Spitz\, Social Media Director at Infiniti of Beachwood about how to </span><span style="font-family: Arial\, Verdana\, Helvetica\, sans-serif\; white-space: pre-wrap\; font-size: 14px\; color: rgb(85\, 85\, 85)\;"> </span><span style="font-family: Arial\, Verdana\, Helvetica\, sans-serif\; font-size: 12px\; white-space: pre-wrap\; color: rgb(85\, 85\, 85)\;">market yourself and your brand on Social Media.</span>
LOCATION:Infiniti of Beachwood 25900 Central Pkwy Beachwood\, OH 44122
UID:e.368.8428
SEQUENCE:3
DTSTAMP:20260421T090558Z
URL:https://public.beachwood.org/events/details/women-s-connection-self-marketing-do-s-and-don-ts-8428
END:VEVENT

END:VCALENDAR
