BEGIN:VCALENDAR
VERSION:2.0
PRODID:-//ChamberMaster//Event Calendar 2.0//EN
METHOD:PUBLISH
X-PUBLISHED-TTL:P3D
REFRESH-INTERVAL:P3D
CALSCALE:GREGORIAN
BEGIN:VEVENT
DTSTART:20210617T154500Z
DTEND:20210617T170000Z
X-MICROSOFT-CDO-ALLDAYEVENT:FALSE
SUMMARY:Women's Connection: Home Maintenance\, the DIY Way
DESCRIPTION:The Handy Woman\, Marcia Hales\, will go over many simple things that any homeowner can do\, as long as they overcome their fear. Home maintenance tips to keep the pros away.
X-ALT-DESC;FMTTYPE=text/html:The Handy Woman\, Marcia Hales\, will go over many simple things that any homeowner can do\, as long as they overcome their fear. Home maintenance tips to keep the pros away.
LOCATION:
UID:e.368.8422
SEQUENCE:3
DTSTAMP:20260421T102606Z
URL:https://public.beachwood.org/events/details/women-s-connection-home-maintenance-the-diy-way-8422
END:VEVENT

END:VCALENDAR
