BEGIN:VCALENDAR
VERSION:2.0
PRODID:-//ChamberMaster//Event Calendar 2.0//EN
METHOD:PUBLISH
X-PUBLISHED-TTL:P3D
REFRESH-INTERVAL:P3D
CALSCALE:GREGORIAN
BEGIN:VEVENT
DTSTART:20211021T120000Z
DTEND:20211021T130000Z
X-MICROSOFT-CDO-ALLDAYEVENT:FALSE
SUMMARY:Women's Connection
DESCRIPTION:Come grab a cup of coffee and enjoy an informal networking session\n\nThank you to our sponsor\, Dale Braun\, Financial Advisor at Edward Jones
X-ALT-DESC;FMTTYPE=text/html:<p>Come grab a cup of coffee and enjoy an informal networking session</p>\n\n<p>Thank you to our sponsor\, Dale Braun\, Financial Advisor at Edward Jones</p>\n
LOCATION:Nervous Dog Coffee Bar La Place 2101 Richmond Rd. Beachwood\, OH 44122
UID:e.368.8438
SEQUENCE:3
DTSTAMP:20260421T124201Z
URL:https://public.beachwood.org/events/details/women-s-connection-8438
END:VEVENT

END:VCALENDAR
