BEGIN:VCALENDAR
VERSION:2.0
PRODID:-//ChamberMaster//Event Calendar 2.0//EN
METHOD:PUBLISH
X-PUBLISHED-TTL:P3D
REFRESH-INTERVAL:P3D
CALSCALE:GREGORIAN
BEGIN:VEVENT
DTSTART:20230810T123000Z
DTEND:20230810T133000Z
X-MICROSOFT-CDO-ALLDAYEVENT:FALSE
SUMMARY:Women of the Beachwood Chamber...Who Wants Conflict ?
DESCRIPTION:The Women of the Beachwood Chamber are excited to announce an upcoming event that promises to be both insightful and empowering.\n\n\n\nYou are cordially invited  to our exclusive Coffee Hour Event\, where we will delve\n\ninto the art of "Dealing with Difficult People"   Our special guest speaker is \n\nDiane Helbig\, a business advisor\, trainer\, award-winning author and speaker\, and podcast host.  As President of Helbig Enterprises\, Diane helps businesses and organizations operate more constructively and profitably. She is the author of Succeed Without Selling\, Lemonade Stand Selling\, and Expert Insights.\n\n\n\nConflict happens. Sometimes people are difficult.  However\, we can take steps to minimize the frequency as well as the impact. We will explore why people can be challenging\, and what we can do to improve the situation\, and communicate strategies that work.\n\n\n\nAs a valued member of the Beachwood Chamber\, we encourage you to bring along your friends and colleagues who might benefit from this enriching experience.\n\n\n\nPlease register for this Event on our website at http://www.beachwood.org\, using our Events calendar.\n\n\n\nWe look forward to seeing you at the Coffee Hour !!\n\n\n\nWarm Regards\,\n\n\n\nDavid Lapierre                         Michelle Ryb\, Event Chairperson\n\nExecutive Director                   BuyRite Products\n\ndirector@beachwood.org.       supplylady56@gmail.com\n\n216-831-0003                          216-292-7112
X-ALT-DESC;FMTTYPE=text/html:<br />\nThe Women of the Beachwood Chamber are excited to announce an upcoming event that promises to be both insightful and empowering.<br />\n<br />\nYou are cordially invited &nbsp\;to our exclusive Coffee Hour Event\, where we will delve<br />\ninto the art of &quot\;Dealing with Difficult People&quot\; &nbsp\; Our special guest speaker is&nbsp\;<br />\n<strong>Diane Helbig\, </strong>a business advisor\, trainer\, award-winning author and speaker\, and podcast host. &nbsp\;As President of Helbig Enterprises\, Diane helps businesses and organizations operate more constructively and profitably. She is the author of Succeed Without Selling\, Lemonade Stand Selling\, and Expert Insights.<br />\n<br />\nConflict happens. Sometimes people are difficult. &nbsp\;However\, we can take steps to minimize the frequency as well as the impact. We will explore why people can be challenging\, and what we can do to improve the situation\, and communicate strategies that work.<br />\n<br />\nAs a valued member of the Beachwood Chamber\, we encourage you to bring along your friends and colleagues who might benefit from this enriching experience.<br />\n<br />\nPlease register for this Event on our website at&nbsp\;<a href="http://www.beachwood.org">http://www.beachwood.org</a>\, using our Events calendar.<br />\n<br />\nWe look forward to seeing you at the Coffee Hour !!<br />\n<br />\nWarm Regards\,<br />\n<br />\nDavid Lapierre &nbsp\; &nbsp\; &nbsp\; &nbsp\; &nbsp\; &nbsp\; &nbsp\; &nbsp\; &nbsp\; &nbsp\; &nbsp\; &nbsp\; Michelle Ryb\, Event Chairperson<br />\nExecutive Director &nbsp\; &nbsp\; &nbsp\; &nbsp\; &nbsp\; &nbsp\; &nbsp\; &nbsp\; &nbsp\; BuyRite Products<br />\ndirector@beachwood.org. &nbsp\; &nbsp\; &nbsp\; supplylady56@gmail.com<br />\n216-831-0003 &nbsp\; &nbsp\; &nbsp\; &nbsp\; &nbsp\; &nbsp\; &nbsp\; &nbsp\; &nbsp\; &nbsp\; &nbsp\; &nbsp\; &nbsp\;216-292-7112<br />\n&nbsp\;
LOCATION:Kitchen 216 SITE Center Bldg. Lower level 3333 Richmond Rd Beachwood\, OH 44122
UID:e.368.8691
SEQUENCE:3
DTSTAMP:20260424T182545Z
URL:https://public.beachwood.org/events/details/women-of-the-beachwood-chamber-who-wants-conflict-8691
END:VEVENT

END:VCALENDAR
