BEGIN:VCALENDAR
VERSION:2.0
PRODID:-//ChamberMaster//Event Calendar 2.0//EN
METHOD:PUBLISH
X-PUBLISHED-TTL:P3D
REFRESH-INTERVAL:P3D
CALSCALE:GREGORIAN
BEGIN:VEVENT
DTSTART:20231109T130000Z
DTEND:20231109T143000Z
X-MICROSOFT-CDO-ALLDAYEVENT:FALSE
SUMMARY:Women of the Beachwood Chamber...Who wants coffee?
DESCRIPTION:Please join the Women of the Beachwood Chamber for a morning of coffee\, pastries\, and great conversation.  We are thrilled to bring together professionals of an engaging morning of networking\, collaboration and empowerment.\n\nOur special guest speaker is Ms. Elizabeth Colby\, whose mission is to help 1000 business owners grow their business as a Coach\, Consultant\, and Fractional Executive.  Her superpower is operating at the intersection of client-centric strategy\, leadership\, marketing\, and digital transformation.  She has a 30 years experience of growing businesses in the banking and tech industries.  She loves working with clients to develop their growth strategy\, define their ideal client\, design a new product\, or digitally transform their customers experience.\n\n\n\nPlease visit our Chamber Calendar Events page to register:  www.beachwood.org\n\n\n\nWe're looking forward to seeing you the Thursday\, November 9 event.\n\nDon't forget to bring your business cards !!\n\n\n\nRegards\,\n\n\n\nDavid Lapierre                        Michelle Ryb\, BuyRite Products\n\nExecutive Director                  Event Chairwoman
X-ALT-DESC;FMTTYPE=text/html:Please join the Women of the Beachwood Chamber for a morning of coffee\, pastries\, and great conversation. &nbsp\;We are thrilled to bring together professionals of an engaging morning of networking\, collaboration and empowerment.<br />\nOur special guest speaker is Ms. Elizabeth Colby\, whose mission is to help 1000 business owners grow their business as a Coach\, Consultant\, and Fractional Executive. &nbsp\;Her superpower is operating at the intersection of client-centric strategy\, leadership\, marketing\, and digital transformation. &nbsp\;She has a 30 years experience of growing businesses in the banking and tech industries. &nbsp\;She loves working with clients to develop their growth strategy\, define their ideal client\, design a new product\, or digitally transform their customers experience.<br />\n<br />\nPlease visit our Chamber Calendar Events page to register: &nbsp\;www.beachwood.org<br />\n<br />\nWe&#39\;re looking forward to seeing you the Thursday\, November 9 event.<br />\nDon&#39\;t forget to bring your business cards !!<br />\n<br />\nRegards\,<br />\n<br />\nDavid Lapierre &nbsp\; &nbsp\; &nbsp\; &nbsp\; &nbsp\; &nbsp\; &nbsp\; &nbsp\; &nbsp\; &nbsp\; &nbsp\; &nbsp\;Michelle Ryb\, BuyRite Products<br />\nExecutive Director &nbsp\; &nbsp\; &nbsp\; &nbsp\; &nbsp\; &nbsp\; &nbsp\; &nbsp\; &nbsp\;Event Chairwoman
LOCATION:COhatch Office & Meeting Space Beachwood Place Mall 26300 Cedar Rd Beachwood\, OH. 44122 216-373-1577
UID:e.368.8709
SEQUENCE:3
DTSTAMP:20260424T221430Z
URL:https://public.beachwood.org/events/details/women-of-the-beachwood-chamber-who-wants-coffee-8709
END:VEVENT

END:VCALENDAR
