BEGIN:VCALENDAR
VERSION:2.0
PRODID:-//ChamberMaster//Event Calendar 2.0//EN
METHOD:PUBLISH
X-PUBLISHED-TTL:P3D
REFRESH-INTERVAL:P3D
CALSCALE:GREGORIAN
BEGIN:VEVENT
DTSTART:20260611T123000Z
DTEND:20260611T133000Z
X-MICROSOFT-CDO-ALLDAYEVENT:FALSE
SUMMARY:Women of the Beachwood Chamber Coffee Hour
DESCRIPTION:Women of the Beachwood Chamber Coffee Hour\n\n\nHear from Joan Spoerl\, M.A.T. of The Literacy Cooperative as the Director of Dolly Parton's Imagination Library\n\nAddressing Our Literacy Emergency: Fighting Poor Reading Results with Imagination & Motivation\n\nRecent research and reports highlight that we are in the midst of a literacy emergency both locally and nationwide. Two out of three children in Ohio are not ready for kindergarten. That number is even more dire in the city of Cleveland with 8 out of 10 not ready. When a child starts behind\, they often stay behind and it's hard to catch up.\n\nNationwide\, high school seniors tested at the lowest levels ever in reading in the history of the National Assessment of Educational Progress (NAEP). There's been a 40% decline in the number of Americans reading for pleasure between 2003 and 2023. College professors report students who balk at the thought of reading an entire book. \n\n \n\n \n\nIn this presentation\, you'll learn about an important\, evidence-based and cost-effective solution already making a difference among youngsters and families in our community. Join us in embracing hope and imagination to reverse these trends.
X-ALT-DESC;FMTTYPE=text/html:Women of the Beachwood Chamber Coffee Hour\n<p class="elementToProof" style="margin: 0px\; caret-color: rgb(33\, 33\, 33)\; color: rgb(33\, 33\, 33)\; font-family: Aptos\; font-size: 16px\; direction: ltr\; white-space-collapse: preserve\;"><br />\n<span style="font-size:14px\;"><span style="font-family: Calibri\, Helvetica\, Arial\, sans-serif\; color: rgb(0\, 0\, 0)\;">Hear from Joan Spoerl\, M.A.T. of The Literacy Cooperative as&nbsp\;the Director of Dolly Parton&#39\;s Imagination Library</span></span></p>\n\n<div class="elementToProof" style="font-size: 12pt\; direction: ltr\; line-height: 1.2\; margin: 12pt 0px\; font-family: Calibri\, Helvetica\, sans-serif\; color: rgb(0\, 0\, 0)\;"><span style="font-size:14px\;"><span style="font-weight: 700\;">Addressing Our Literacy Emergency: Fighting Poor Reading Results with Imagination &amp\; Motivation</span></span></div>\n\n<div class="elementToProof" style="font-size: 12pt\; margin: 0px\; font-family: Aptos\, Aptos_EmbeddedFont\, Aptos_MSFontService\, Calibri\, Helvetica\, sans-serif\; color: rgb(0\, 0\, 0)\;"><span style="font-size:14px\;"><span style="font-family: Calibri\, Helvetica\, sans-serif\;">Recent research and reports highlight that we are in the midst of a literacy emergency both locally and nationwide. Two out of three children in Ohio are not ready for kindergarten. That number is even more dire in the city of Cleveland with 8 out of 10 not ready. When a child starts behind\, they often stay behind and it&rsquo\;s hard to catch up.</span></span></div>\n\n<div class="elementToProof" style="font-size: 12pt\; margin: 0px\; font-family: Aptos\, Aptos_EmbeddedFont\, Aptos_MSFontService\, Calibri\, Helvetica\, sans-serif\; color: rgb(0\, 0\, 0)\;"><span style="font-size:14px\;"><span style="font-family: Calibri\, Helvetica\, sans-serif\;">Nationwide\, high school seniors tested at the lowest levels ever in reading in the history of the National Assessment of Educational Progress (NAEP). There&rsquo\;s been a 40% decline in the number of Americans reading for pleasure between 2003 and 2023. College professors report students who balk at the thought of reading an entire book.&nbsp\;</span></span></div>\n\n<div class="elementToProof" style="font-size: 12pt\; margin: 0px\; font-family: Aptos\, Aptos_EmbeddedFont\, Aptos_MSFontService\, Calibri\, Helvetica\, sans-serif\; color: rgb(0\, 0\, 0)\;">&nbsp\;</div>\n\n<div class="elementToProof" style="font-size: 12pt\; margin: 0px\; font-family: Aptos\, Aptos_EmbeddedFont\, Aptos_MSFontService\, Calibri\, Helvetica\, sans-serif\; color: rgb(0\, 0\, 0)\;">&nbsp\;</div>\n\n<div class="elementToProof" style="font-size: 12pt\; margin: 0px\; font-family: Aptos\, Aptos_EmbeddedFont\, Aptos_MSFontService\, Calibri\, Helvetica\, sans-serif\; color: rgb(0\, 0\, 0)\;"><span style="font-size:14px\;"><span style="font-family: Calibri\, Helvetica\, sans-serif\;">In this presentation\, you&rsquo\;ll learn about an important\, evidence-based and cost-effective solution already making a difference among youngsters and families in our community. Join us in embracing hope and imagination to reverse these trends.</span></span></div>\n\n<div>&nbsp\;</div>\n
LOCATION:Beachwood Public Library 25501 Shaker Blvd Beachwood\, OH
UID:e.368.8888
SEQUENCE:3
DTSTAMP:20260424T155808Z
URL:https://public.beachwood.org/events/details/women-of-the-beachwood-chamber-coffee-hour-8888
END:VEVENT

END:VCALENDAR
