BEGIN:VCALENDAR
VERSION:2.0
PRODID:-//ChamberMaster//Event Calendar 2.0//EN
METHOD:PUBLISH
X-PUBLISHED-TTL:P3D
REFRESH-INTERVAL:P3D
CALSCALE:GREGORIAN
BEGIN:VEVENT
DTSTART:20231012T120000Z
DTEND:20231012T133000Z
X-MICROSOFT-CDO-ALLDAYEVENT:FALSE
SUMMARY:Women of the Beachwood Chamber Coffee Hour
DESCRIPTION:Please join the Women of the Beachwood Chamber and Women of the Hights-Hillcrest Chamber as they present a panel discussion about Goldman Sachs 10\,000 Small Businesses program.\n\nCome listen to recent graduates of the program discuss how attending this class\n\nhas helped them organize and grow their business awareness.\n\n\n\nPanelists include:\n\nJodi Turk\, Power Max Carpet & Upholstery\n\nMary Ann Cordiano\, CMIT Solutions\n\nKelly Beaudoin\, Balance Solution Physical Therapy
X-ALT-DESC;FMTTYPE=text/html:Please join the Women of the Beachwood Chamber and Women of the Hights-Hillcrest Chamber as they present a panel discussion about Goldman Sachs 10\,000 Small Businesses program.<br />\nCome listen to recent graduates of the program discuss how attending this class<br />\nhas helped them organize and grow their business awareness.<br />\n<br />\nPanelists include:<br />\n<strong>Jodi Turk\, Power Max Carpet &amp\; Upholstery<br />\nMary Ann Cordiano\, CMIT Solutions<br />\nKelly Beaudoin\, Balance Solution Physical Therapy</strong>
LOCATION:TRI-C Corporate College East 4400 Richmond Rd Wartrensville Hts\, OH Room #230
UID:e.368.8708
SEQUENCE:3
DTSTAMP:20260424T210650Z
URL:https://public.beachwood.org/events/details/women-of-the-beachwood-chamber-coffee-hour-8708
END:VEVENT

END:VCALENDAR
