BEGIN:VCALENDAR
VERSION:2.0
PRODID:-//ChamberMaster//Event Calendar 2.0//EN
METHOD:PUBLISH
X-PUBLISHED-TTL:P3D
REFRESH-INTERVAL:P3D
CALSCALE:GREGORIAN
BEGIN:VEVENT
DTSTART:20230713T123000Z
DTEND:20230713T133000Z
X-MICROSOFT-CDO-ALLDAYEVENT:FALSE
SUMMARY:Women of the Beachwood Chamber Coffee Hour
DESCRIPTION:Women of the Beachwood Chamber \n\n\n\nInvitation:    Join us for an Inspiring Women's Coffee Hour Event\n\n\n\nDear Chamber Members\,\n\n\n\nIt is with great pleasure that we invite you to our upcoming Women's Coffee Hour Event.  This event aims to bring together exceptional women in our business community for an empowering morning of networking\, knowledge sharing\, and inspiration.\n\nWe are delighted to announce that our special guest speaker for this event is one of our own Chamber members\, Brittany K. Kahle\, DC of Kahle Nutrition and Chiropractic.  Brittany is a Chiropractic Physician\, an Advanced Clinical Nutrition Practitioner\, and business owner.  With years of experience and expertise in promoting holistic well-being\, Brittany will provide valuable insights and practical strategies to enhance health and happiness in both personal and professional lives.\n\nApart from the enlightening talk\, the event will provide an excellent opportunity to connect with like-minded professionals\, expand your network\, and build meaningful relationships within our vibrant community.\n\nDue to limited seating\, we encourage you to register early to secure your spot for this highly anticipated event.\n\nPlease register on our Chamber website by follwing this link:  http://www.beachwood.org\n\nHope to see you on July 13th.\n\n\n\nWarm regards\,\n\n\n\nDavid Lapierre                                                Michelle Ryb\, BuyRite Office Products\n\nExecutive Director                                          Committee Chairwoman\n\ndirector@beachwood.org                               supplylady56@aol.com\n\n216-831-0003                                                 216-292-7112
X-ALT-DESC;FMTTYPE=text/html:Women of the Beachwood Chamber&nbsp\;<br />\n<br />\n<strong>Invitation: </strong>&nbsp\; &nbsp\;<strong>Join us for an Inspiring Women&#39\;s Coffee Hour Event</strong><br />\n<br />\nDear Chamber Members\,<br />\n<br />\nIt is with great pleasure that we invite you to our upcoming Women&#39\;s Coffee Hour Event. &nbsp\;This event aims to bring together exceptional women in our business community for an empowering morning of networking\, knowledge sharing\, and inspiration.<br />\nWe are delighted to announce that our special guest speaker for this event is one of our own Chamber members\, <strong>Brittany K. Kahle\, DC of Kahle Nutrition and Chiropractic. &nbsp\;</strong>Brittany is a Chiropractic Physician\, an Advanced Clinical Nutrition Practitioner\, and business owner. &nbsp\;With years of experience and expertise in promoting holistic well-being\, Brittany will provide valuable insights and practical strategies to enhance health and happiness in both personal and professional lives.<br />\nApart from the enlightening talk\, the event will provide an excellent opportunity to connect with like-minded professionals\, expand your network\, and build meaningful relationships within our vibrant community.<br />\nDue to limited seating\, we encourage you to register early to secure your spot for this highly anticipated event.<br />\nPlease register on our Chamber website by follwing this link: &nbsp\;<a href="http://www.beachwood.org">http://www.beachwood.org</a><br />\nHope to see you on July 13th.<br />\n<br />\nWarm regards\,<br />\n<br />\nDavid Lapierre &nbsp\; &nbsp\; &nbsp\; &nbsp\; &nbsp\; &nbsp\; &nbsp\; &nbsp\; &nbsp\; &nbsp\; &nbsp\; &nbsp\; &nbsp\; &nbsp\; &nbsp\; &nbsp\; &nbsp\; &nbsp\; &nbsp\; &nbsp\; &nbsp\; &nbsp\; &nbsp\; &nbsp\;Michelle Ryb\, BuyRite Office Products<br />\nExecutive Director &nbsp\; &nbsp\; &nbsp\; &nbsp\; &nbsp\; &nbsp\; &nbsp\; &nbsp\; &nbsp\; &nbsp\; &nbsp\; &nbsp\; &nbsp\; &nbsp\; &nbsp\; &nbsp\; &nbsp\; &nbsp\; &nbsp\; &nbsp\; &nbsp\;Committee Chairwoman<br />\ndirector@beachwood.org &nbsp\; &nbsp\; &nbsp\; &nbsp\; &nbsp\; &nbsp\; &nbsp\; &nbsp\; &nbsp\; &nbsp\; &nbsp\; &nbsp\; &nbsp\; &nbsp\; &nbsp\; supplylady56@aol.com<br />\n216-831-0003 &nbsp\; &nbsp\; &nbsp\; &nbsp\; &nbsp\; &nbsp\; &nbsp\; &nbsp\; &nbsp\; &nbsp\; &nbsp\; &nbsp\; &nbsp\; &nbsp\; &nbsp\; &nbsp\; &nbsp\; &nbsp\; &nbsp\; &nbsp\; &nbsp\; &nbsp\; &nbsp\; &nbsp\; 216-292-7112<br />\n<br />\n&nbsp\;
LOCATION:University Hospitals Cleveland Medical Center 3619 Park East Dr\, South Bldg. Foley 1st floor conference room Beachwood\, OH
UID:e.368.8689
SEQUENCE:3
DTSTAMP:20260424T170105Z
URL:https://public.beachwood.org/events/details/women-of-the-beachwood-chamber-coffee-hour-8689
END:VEVENT

END:VCALENDAR
