BEGIN:VCALENDAR
VERSION:2.0
PRODID:-//ChamberMaster//Event Calendar 2.0//EN
METHOD:PUBLISH
X-PUBLISHED-TTL:P3D
REFRESH-INTERVAL:P3D
CALSCALE:GREGORIAN
BEGIN:VEVENT
DTSTART:20090312T160000Z
DTEND:20090312T173000Z
X-MICROSOFT-CDO-ALLDAYEVENT:FALSE
SUMMARY:Women of Excellence
DESCRIPTION:EXECUTIVE CATERERS?\nCorporate Club at Landerhaven Series \n\nWOMEN OF EXCELLENCE	\nThursday\, March 12\, 2009\n11:30 am Registration * 12 Noon Program & Luncheon\n\nSari Feldman\, Executive Director\, Cuyahoga County Public Library\nApril Miller Boise\, Partner-in-Charge\, Thompson Hine\nTina Hamrick\, President\, NAWBO & Partner\, SJK Beringer Group\n\nModerated by: Dee Perry\, Host & Senior Producer\, 90.3 WCPN ideastream\n\n\nExecutive Caterers\n6111 Landerhaven Drive\nMayfield Heights\, OH 44124\nCost: $30/person or $200/table of eight\nRegister by calling 440.449.0700 x: 241 or at www.ccatlanderhaven.com\nPre-registration is strongly advised
X-ALT-DESC;FMTTYPE=text/html:EXECUTIVE CATERERS?\nCorporate Club at Landerhaven Series \n\nWOMEN OF EXCELLENCE	\nThursday\, March 12\, 2009\n11:30 am Registration * 12 Noon Program & Luncheon\n\nSari Feldman\, Executive Director\, Cuyahoga County Public Library\nApril Miller Boise\, Partner-in-Charge\, Thompson Hine\nTina Hamrick\, President\, NAWBO & Partner\, SJK Beringer Group\n\nModerated by: Dee Perry\, Host & Senior Producer\, 90.3 WCPN ideastream\n\n\nExecutive Caterers\n6111 Landerhaven Drive\nMayfield Heights\, OH 44124\nCost: $30/person or $200/table of eight\nRegister by calling 440.449.0700 x: 241 or at www.ccatlanderhaven.com\nPre-registration is strongly advised\n\n
LOCATION:Executive Caterers' at Landerhaven 6111 Landerhaven Drive Mayfield Heights\, OH 44124
UID:e.368.154
SEQUENCE:3
DTSTAMP:20260423T203553Z
URL:https://public.beachwood.org/events/details/women-of-excellence-03-12-2009-154
END:VEVENT

END:VCALENDAR
