BEGIN:VCALENDAR
VERSION:2.0
PRODID:-//ChamberMaster//Event Calendar 2.0//EN
METHOD:PUBLISH
X-PUBLISHED-TTL:P3D
REFRESH-INTERVAL:P3D
CALSCALE:GREGORIAN
BEGIN:VEVENT
DTSTART:20100315T153000Z
DTEND:20100315T170000Z
X-MICROSOFT-CDO-ALLDAYEVENT:FALSE
SUMMARY:Women In Networking (WIN) - Monthly Meeting
DESCRIPTION:Women in Networking (WIN) is an organization that empowers female professionals by creating new access points for individual business development.  WIN holds monthly meetings the 3rd Monday of the month. for more information on these meetings\, please visit www.wincleveland.org.  Events are free for members\; $20 for nonmembers unless otherwise noted on the website. For further information about WIN\, please contact Michele Peace at peace@mjmksolutions.com.
X-ALT-DESC;FMTTYPE=text/html:<div>Women in Networking (WIN) is an organization that empowers female professionals by creating new access points for individual business development. </div><div> </div><div>WIN holds monthly meetings the 3rd Monday of the month.</div><div> </div><div>for more information on these meetings\, please visit <a href="http://www.wincleveland.org">www.wincleveland.org</a>. </div><div> </div><div>Events are free for members\; $20 for nonmembers unless otherwise noted on the website.</div><div> </div><div>For further information about WIN\, please contact Michele Peace at <a href="mailto:peace@mjmksolutions.com">peace@mjmksolutions.com</a>.</div>
LOCATION:Joseph-Beth Booksellers\, Legacy Village
UID:e.368.364
SEQUENCE:3
DTSTAMP:20260423T061640Z
URL:https://public.beachwood.org/events/details/women-in-networking-win-monthly-meeting-03-15-2010-364
END:VEVENT

END:VCALENDAR
