BEGIN:VCALENDAR
VERSION:2.0
PRODID:-//ChamberMaster//Event Calendar 2.0//EN
METHOD:PUBLISH
X-PUBLISHED-TTL:P3D
REFRESH-INTERVAL:P3D
CALSCALE:GREGORIAN
BEGIN:VEVENT
DTSTART:20150226T000000Z
DTEND:20150226T013000Z
X-MICROSOFT-CDO-ALLDAYEVENT:FALSE
SUMMARY:Women in History: Josephine Baker
DESCRIPTION:The life of Josephine Baker\, African-American international star\, civil rights activist and WWII heroine\, will be portrayed by actress Vernice Jackson from Women in History.
X-ALT-DESC;FMTTYPE=text/html:The life of Josephine Baker\, African-American international star\, civil rights activist and WWII heroine\, will be portrayed by actress Vernice Jackson from Women in History.
LOCATION:Beachwood Branch of Cuyahoga County Public Library 25501 Shaker Blvd Beachwood OH 44122
UID:e.368.1271
SEQUENCE:3
DTSTAMP:20260419T190610Z
URL:https://public.beachwood.org/events/details/women-in-history-josephine-baker-02-25-2015-1271
END:VEVENT

END:VCALENDAR
