BEGIN:VCALENDAR
VERSION:2.0
PRODID:-//ChamberMaster//Event Calendar 2.0//EN
METHOD:PUBLISH
X-PUBLISHED-TTL:P3D
REFRESH-INTERVAL:P3D
CALSCALE:GREGORIAN
BEGIN:VEVENT
DTSTART:20151121T210000Z
DTEND:20151122T000000Z
X-MICROSOFT-CDO-ALLDAYEVENT:FALSE
SUMMARY:Wizard of Oz
DESCRIPTION:Join us on the yellow brick road to see The Wizard of Oz.\n\nDoors open 30 minutes prior to show time.\n\nTickets: Students/Seniors $7.00 Adults $8.00\n\n\n\nAll performances held at Beachwood Middle School
X-ALT-DESC;FMTTYPE=text/html:Join us on the yellow brick road to see The Wizard of Oz.<br />\nDoors open 30 minutes prior to show time.<br />\nTickets: Students/Seniors $7.00 Adults $8.00<br />\n<br />\nAll performances held at Beachwood Middle School<br />\n&nbsp\;
LOCATION:Beachwood middle School
UID:e.368.3797
SEQUENCE:3
DTSTAMP:20260420T044018Z
URL:https://public.beachwood.org/events/details/wizard-of-oz-11-21-2015-3797
END:VEVENT

END:VCALENDAR
