BEGIN:VCALENDAR
VERSION:2.0
PRODID:-//ChamberMaster//Event Calendar 2.0//EN
METHOD:PUBLISH
X-PUBLISHED-TTL:P3D
REFRESH-INTERVAL:P3D
CALSCALE:GREGORIAN
BEGIN:VEVENT
DTSTART:20090216T013000Z
DTEND:20090215T173000Z
X-MICROSOFT-CDO-ALLDAYEVENT:FALSE
SUMMARY:WINTERFEST & PANCAKE BREAKFAST
DESCRIPTION:Annual Beachwood Chamber of CommerceWinterfest & Pancake BreakfastPresented by La Place!\nSunday\, February 15th8:30AM - 12:30 PM \n(note new hours!)\nBeachwood High School25100 Fairmount Blvd. Cost: $5 per person (Children 5 years and under--FREE) The Beachwood Chamber of Commerce's Annual Winterfest & Pancake Breakfast is growing again this year.  Along with all-the-pancakes-you-can-eat\, we will also have 3 varieties of omelets (cheese\, vegetable\, turkey sausage) at $3 each. Look for our family-oriented activities provided by museums and community organizations.  As always\, "Sparkles" the Clown will do face painting and balloon twisting. Rick Iacoboni will provide background music on his acoustic guitar. And a number of guest celebrities will be on hand to help serve and greet. Because of the popularity of this event\, the Chamber is extending an opportunity to members who target families in the retail market.  A limited number of booths are available for exhibit and/or activity purposes. Cost is $150 and includes visibility and 8 tickets to the event. We also have sponsorship opportunties available.Museum Sponsor ($500)Golden Griddle ($250)Flapjack Sponsor ($100)Chef Sponsor ($50)Each level includes tickets to the event.  Add a booth to any sponsorship for an additional $150. Sponsorships include listing on this site and a link to your company's website and signage at the event. Click here to download the registration form. Museum (sponsors museum/community family-oriented activity)Joseph\, Mann & Creed Golden Griddlewww.clevelandclinic.org/fhc FlapjackCertaPro PaintersEnvision Radio Networks\, Inc.Ohio Commerce Bank ChefAudi WilloughbyBaldwin Wallace EastBogart\, Cunix & AssociatesChagrin ChiropracticCleveland State University-East CenterCulture IndexHealth & Life Insurance of Ohio-Leo RosenLawrence P. Weissman\, CPASenior PGA ChampionshipToshiba Business SolutionsFor more information on becoming a sponsor and/or having a booth at the event\, please contact the Chamber at 216-831-0003 or email mail@beachwood.org
X-ALT-DESC;FMTTYPE=text/html:<div align="center"><font color="#800000">Annual Beachwood Chamber of Commerce</font></div><div align="center"><font color="#000080" size="3"><em><strong>Winterfest &amp\; Pancake Breakfast</strong></em></font></div><div align="center"><font color="#800000" size="3"><strong><em>Presented by La Place!</em></strong></font></div><div align="center"><br /><font color="#000080" size="3"><strong>Sunday\, February 15th</strong></font></div><div align="center"><font color="#000080"><strong><em>8:30AM - 12:30 PM&nbsp\;<br />(note new hours!)<br /></em></strong></font></div><div align="center"><font color="#000080"><strong>Beachwood High School</strong></font></div><div align="center"><font color="#000080"><strong>25100 Fairmount Blvd.</strong></font></div><div align="center">&nbsp\;</div><div align="center"><font color="#000080"><strong>Cost: $5 per person (Children 5 years and under--FREE)</strong></font></div><div align="center">&nbsp\;</div><div align="left"><font color="#000080">The Beachwood Chamber of Commerce&rsquo\;s Annual Winterfest &amp\; Pancake Breakfast&nbsp\;is growing again this year.&nbsp\; Along with all-the-pancakes-you-can-eat\, we will also have 3 varieties of omelets (cheese\, vegetable\, turkey sausage) at $3 each.</font></div><div align="left">&nbsp\;</div><div align="left"><font color="#000080">Look for our family-oriented activities provided by museums and community organizations.&nbsp\; As always\, &quot\;Sparkles&quot\; the Clown will do face painting and balloon twisting.&nbsp\;Rick Iacoboni will provide background music on his acoustic guitar. And a number of guest celebrities will be on hand to help serve and greet.</font></div><div align="left">&nbsp\;</div><div align="left"><font color="#000080">Because of the popularity of this event\, the Chamber is extending an opportunity&nbsp\;to members who target families in the retail market.&nbsp\; A limited number of booths are available for exhibit and/or activity purposes. Cost is $150 and includes visibility and 8 tickets to the event.</font></div><div align="left">&nbsp\;</div><div align="left"><font color="#000080">We also have sponsorship opportunties available.</font></div><ul><li><div align="left"><font color="#000080">Museum Sponsor&nbsp\;($500)</font></div></li><li><div align="left"><font color="#000080">Golden Griddle ($250)</font></div></li><li><font color="#000080">Flapjack Sponsor ($100)</font></li><li><font color="#000080">Chef Sponsor ($50)</font></li></ul><div><font color="#000080">Each level includes tickets to the event.&nbsp\; Add a booth to any sponsorship for an additional $150. Sponsorships include listing on this site and&nbsp\;a link to your company&rsquo\;s website and signage at the event. <a href="https://secure.chambermaster.com/FCKeditor/UserFiles/chambers/368/File/2009%20Registration%20form.pdf">Click here</a> to download the registration form.</font></div><div>&nbsp\;</div><div><font color="#000080"><strong>Museum</strong> (sponsors museum/community family-oriented activity)</font></div><ul><li><font color="#000080"><a href="http://www.jmcbiz.com">Joseph\, Mann &amp\; Creed</a></font></li></ul><div>&nbsp\;</div><div><font color="#000080"><strong>Golden Griddle</strong></font></div><ul><li><font color="#000080"><a href="http://www.clevelandclinic.org/fhc">www.clevelandclinic.org/fhc</a></font></li></ul><div>&nbsp\;</div><div><font color="#000080"><strong>Flapjack</strong></font></div><ul><li><font color="#000080"><a href="http://www.certapro.com">CertaPro Painters</a></font></li><li><font color="#000080"><a href="http://www.envisionradio.com">Envision Radio Networks\, Inc.</a></font></li><li><font color="#000080"><a href="http://www.ohiocommercebank.com">Ohio Commerce Bank</a></font></li></ul><div>&nbsp\;<font color="#000080"><strong>Chef</strong></font></div><ul><li><font color="#000080"><a href="http://www.stoddard.com">Audi Willoughby</a></font></li><li><font color="#000080"><a href="http://www.bw.edu/bweast">Baldwin Wallace East</a></font></li><li><font color="#000080"><a href="http://www.bogartcunix.com">Bogart\, Cunix &amp\; Associates</a></font></li><li><font color="#000080"><a href="http://www.chagrinchiro.com">Chagrin Chiropractic</a></font></li><li><font color="#000080"><a href="http://www.csuohio.edu/eastcenter">Cleveland State University-East Center</a></font></li><li><font color="#000080"><a href="http://www.cindexinc.com">Culture Index</a></font></li><li><font color="#000080"><a href="http://www.allohiohealthinsurance.com">Health &amp\; Life Insurance of Ohio-Leo Rosen</a></font></li><li><font color="#000080"><a href="http://www.weissmancpa.com">Lawrence P. Weissman\, CPA</a></font></li><li><font color="#000080"><a href="http://www.seniorpga2009.com">Senior PGA Championship</a></font></li><li><font color="#000080"><a href="http://www.northcoastbusiness.com">Toshiba Business Solutions</a></font></li></ul><p><font color="#000080">For more information on becoming a sponsor and/or having a booth at the event\, please contact the Chamber at 216-831-0003 or email <a href="mailto:mail@beachwood.org">mail@beachwood.org</a></font></p><div>&nbsp\;</div>
LOCATION:Beachwood High School25100 Fairmount Blvd.(corner Fairmont & Richmond Rds)
UID:e.368.136
SEQUENCE:3
DTSTAMP:20260423T212922Z
URL:https://public.beachwood.org/events/details/winterfest-pancake-breakfast-02-15-2009-136
END:VEVENT

END:VCALENDAR
