BEGIN:VCALENDAR
VERSION:2.0
PRODID:-//ChamberMaster//Event Calendar 2.0//EN
METHOD:PUBLISH
X-PUBLISHED-TTL:P3D
REFRESH-INTERVAL:P3D
CALSCALE:GREGORIAN
BEGIN:VEVENT
DTSTART:20190119T230000Z
DTEND:20190120T030000Z
X-MICROSOFT-CDO-ALLDAYEVENT:FALSE
SUMMARY:Winter Campout
DESCRIPTION:UNLEASH YOUR INNER CAMPER!\n\nCome and CAMPOUT at Hiram House Camp!\n\nSaturday\, January 19th from 6-10pm\n\nJoin us for an evening of craft beer from BRIM Kitchen and Brewery and other local Cleveland brews along dinner\, music from Second Avenue Acoustic Duo\, games and more!\n\nAll donations from tickets will go to benefit The Hiram House Campership Fund which helps sponsor youth from low income families and youth in foster care to attend camp! By joining us for the evening you will help give the magic of camp!\n\n\n\nPurchase Tickets: https://www.eventbrite.com/e/winter-campout-tickets-54007832882
X-ALT-DESC;FMTTYPE=text/html:<h2>UNLEASH YOUR INNER CAMPER!</h2>\n\n<p>Come and&nbsp\;CAMPOUT&nbsp\;at&nbsp\;<a href="https://www.hiramhousecamp.org/" rel="nofollow noopener noreferrer" style="text-decoration-line: none\; cursor: pointer\; background-color: transparent\; padding-top: 0px\;" target="_blank">Hiram House Camp</a>!</p>\n\n<p>Saturday\, January 19th from 6-10pm</p>\n\n<p>Join us for an evening of craft beer from&nbsp\;<a href="http://www.brimbrewery.com/" rel="nofollow noopener noreferrer" style="text-decoration-line: none\; cursor: pointer\; background-color: transparent\; padding-top: 0px\;" target="_blank">BRIM Kitchen and Brewery</a>&nbsp\;and other local Cleveland brews along dinner\, music from&nbsp\;<a href="https://www.facebook.com/SecondAvenueAcousticDuo/" rel="nofollow noopener noreferrer" style="text-decoration-line: none\; cursor: pointer\; background-color: transparent\;" target="_blank">Second Avenue Acoustic Duo</a>\, games and more!</p>\n\n<p>All donations from tickets will go to benefit The Hiram House Campership Fund which helps sponsor youth from low income families and youth in foster care to attend camp! By joining us for the evening you will help give the magic of camp!<br />\n<br />\nPurchase Tickets:<a href="https://www.eventbrite.com/e/winter-campout-tickets-54007832882">&nbsp\;https://www.eventbrite.com/e/winter-campout-tickets-54007832882</a><br />\n&nbsp\;</p>\n
LOCATION:Hiram House Camp 33775 Hiram Trail Moreland Hills\, Ohio 44022
UID:e.368.8020
SEQUENCE:3
DTSTAMP:20260420T112219Z
URL:https://public.beachwood.org/events/details/winter-campout-8020
END:VEVENT

END:VCALENDAR
