BEGIN:VCALENDAR
VERSION:2.0
PRODID:-//ChamberMaster//Event Calendar 2.0//EN
METHOD:PUBLISH
X-PUBLISHED-TTL:P3D
REFRESH-INTERVAL:P3D
CALSCALE:GREGORIAN
BEGIN:VEVENT
DTSTART:20150304T160000Z
DTEND:20150305T040000Z
X-MICROSOFT-CDO-ALLDAYEVENT:FALSE
SUMMARY:Wine Down Wednesday at The Pub Beachwood
DESCRIPTION:Enjoy 1/2 price on ALL of our Bottles of Wine! \n\nThe runs ALL DAY EVERY Wednesday.
X-ALT-DESC;FMTTYPE=text/html:<div style="text-align: center\;"><span style="font-size:20px"><strong>Enjoy 1/2 price on ALL of our Bottles of Wine!&nbsp\;<br />\nThe runs&nbsp\;ALL DAY&nbsp\;EVERY Wednesday.&nbsp\; </strong></span></div>\n
LOCATION:The Pub Beachwood is located at Beachwood Place
UID:e.368.3505
SEQUENCE:3
DTSTAMP:20260419T190118Z
URL:https://public.beachwood.org/events/details/wine-down-wednesday-at-the-pub-beachwood-03-04-2015-3505
END:VEVENT

END:VCALENDAR
