BEGIN:VCALENDAR
VERSION:2.0
PRODID:-//ChamberMaster//Event Calendar 2.0//EN
METHOD:PUBLISH
X-PUBLISHED-TTL:P3D
REFRESH-INTERVAL:P3D
CALSCALE:GREGORIAN
BEGIN:VEVENT
DTSTART;VALUE=DATE:20151215
DTEND;VALUE=DATE:20151216
TRANSP:TRANSPARENT
X-MICROSOFT-CDO-ALLDAYEVENT:TRUE
SUMMARY:Wine & Canvas Night at The Pub Beachwood
DESCRIPTION:Join us on Tuesday\, December 15th for The Pub Beachwood's Wine and Canvas Night.  Reservations for this event can be made directly with Wine and Canvas.  For more information\, please visit https://www.wineandcanvas.com/wine-and-canvas-calendar-cleveland-oh.html  \n\n\n\nOur whole menu will be available for purchase.  We will be offereing a Happy Hour Pricing on Wine for the entire event as well as special pricing on select bottles of wine.
X-ALT-DESC;FMTTYPE=text/html:Join us on Tuesday\,&nbsp\;December 15th&nbsp\;for The Pub Beachwood&rsquo\;s Wine and Canvas Night.&nbsp\; Reservations for this event can be made directly with Wine and Canvas.&nbsp\; For more information\, please visit https://www.wineandcanvas.com/wine-and-canvas-calendar-cleveland-oh.html&nbsp\;&nbsp\;<br />\n<br />\nOur whole menu will be available for purchase. &nbsp\;We will be offereing a Happy Hour Pricing on Wine for the entire event as well as special pricing on select bottles of wine.
LOCATION:The Pub Beachwood at Beachwood Place Mall
UID:e.368.3805
SEQUENCE:3
DTSTAMP:20260420T074217Z
URL:https://public.beachwood.org/events/details/wine-canvas-night-at-the-pub-beachwood-12-15-2015-3805
END:VEVENT

END:VCALENDAR
