BEGIN:VCALENDAR
VERSION:2.0
PRODID:-//ChamberMaster//Event Calendar 2.0//EN
METHOD:PUBLISH
X-PUBLISHED-TTL:P3D
REFRESH-INTERVAL:P3D
CALSCALE:GREGORIAN
BEGIN:VEVENT
DTSTART:20151027T220000Z
DTEND:20151028T010000Z
X-MICROSOFT-CDO-ALLDAYEVENT:FALSE
SUMMARY:Wine & Canvas Night at The Pub Beachwood
DESCRIPTION:Join us on Tuesday\, October 27th for The Pub Beachwood's Wine and Canvas Night.  Reservations for this event can be made directly with Wine and Canvas.  For more information\, please visit https://www.wineandcanvas.com/wine-and-canvas-calendar-cleveland-oh.html  \n\n\n\nOur whole menu will be available for purchase.  We will be offereing 1/2 off all of our bottles of wine for this event.  Also\, our Happy Hour is available for the whole first hour of the event.
X-ALT-DESC;FMTTYPE=text/html:Join us on Tuesday\, October 27th for The Pub Beachwood&rsquo\;s Wine and Canvas Night.&nbsp\; Reservations for this event can be made directly with Wine and Canvas.&nbsp\; For more information\, please visit https://www.wineandcanvas.com/wine-and-canvas-calendar-cleveland-oh.html&nbsp\;&nbsp\;<br />\n<br />\nOur whole menu will be available for purchase. &nbsp\;We will be offereing 1/2 off all of our bottles of wine for this event. &nbsp\;Also\, our Happy Hour is available for the whole first hour of the event. &nbsp\;
LOCATION:The Pub Beachwood at Beachwood Place Mall
UID:e.368.3790
SEQUENCE:3
DTSTAMP:20260420T031415Z
URL:https://public.beachwood.org/events/details/wine-canvas-night-at-the-pub-beachwood-10-27-2015-3790
END:VEVENT

END:VCALENDAR
