BEGIN:VCALENDAR
VERSION:2.0
PRODID:-//ChamberMaster//Event Calendar 2.0//EN
METHOD:PUBLISH
X-PUBLISHED-TTL:P3D
REFRESH-INTERVAL:P3D
CALSCALE:GREGORIAN
BEGIN:VEVENT
DTSTART:20080513T230000Z
DTEND:20080514T003000Z
X-MICROSOFT-CDO-ALLDAYEVENT:FALSE
SUMMARY:''What Core Strength IS'' by Chagrin Valley Wellness Center
DESCRIPTION:CVWI's Monthly Seminar Series topic: "What Core Strength IS"\n"The Core.? A concept that is interpreted many ways. The information in this class will enlighten you to the true core and its 26 muscles. You will learn why developing core strength is important and the benefits of a strong\, balanced and stabilizing core. Each student will be able to experience Pilates movements for the first time or enhance current  skills. \n\nThis class will change the way you move!\n\nWho should attend:\n\n* Anyone interested in moving without discomfort 	\n* Current and aspiring Pilates students\n* Current and aspiring Pilates Instructors
X-ALT-DESC;FMTTYPE=text/html:CVWI's Monthly Seminar Series topic: "What Core Strength IS"\n"The Core.? A concept that is interpreted many ways. The information in this class will enlighten you to the true core and its 26 muscles. You will learn why developing core strength is important and the benefits of a strong\, balanced and stabilizing core. Each student will be able to experience Pilates movements for the first time or enhance current  skills. \n\nThis class will change the way you move!\n\nWho should attend:\n\n* Anyone interested in moving without discomfort 	\n* Current and aspiring Pilates students\n* Current and aspiring Pilates Instructors\n\n\n
LOCATION:3690 Orange Place Suite 175 Beachwood\, Ohio 44122
UID:e.368.29
SEQUENCE:3
DTSTAMP:20260424T085030Z
URL:https://public.beachwood.org/events/details/what-core-strength-is-by-chagrin-valley-wellness-center-05-13-2008-29
END:VEVENT

END:VCALENDAR
