BEGIN:VCALENDAR
VERSION:2.0
PRODID:-//ChamberMaster//Event Calendar 2.0//EN
METHOD:PUBLISH
X-PUBLISHED-TTL:P3D
REFRESH-INTERVAL:P3D
CALSCALE:GREGORIAN
BEGIN:VEVENT
DTSTART;VALUE=DATE:20160714
DTEND;VALUE=DATE:20160716
TRANSP:TRANSPARENT
X-MICROSOFT-CDO-ALLDAYEVENT:TRUE
SUMMARY:Western Reserve Vision Care Exclusive Eyewear Event!
DESCRIPTION:You're invited to attend the Western Reserve Vision Care Annual Eyewear Event featuring entire designer collections from \n\nPrada\, Vanni\, Gazal\, and Tom Ford. \n\n\n\nReceive 50% off frames and $40 off non prescription sunglasses. \n\n*some exclusions apply*
X-ALT-DESC;FMTTYPE=text/html:<p style="text-align: center\;"><span style="font-size:14px">You&#39\;re invited to attend the <strong>Western Reserve Vision Care Annual Eyewear Event </strong>featuring entire designer collections from </span></p>\n\n<div style="text-align: center\;"><span style="font-size:14px"><strong>Prada\, Vanni\, Gazal\, and Tom Ford. </strong><br />\n<br />\n<strong>Receive 50% off frames and $40 off non prescription sunglasses. </strong><br />\n<span style="font-size:9px">*some exclusions apply*</span></span><br />\n&nbsp\;</div>\n
LOCATION:Western Reserve Vision Care 3733 Park East Drive\, Suite 104 Beachwood\, Ohio 44122
UID:e.368.6029
SEQUENCE:3
DTSTAMP:20260420T153530Z
URL:https://public.beachwood.org/events/details/western-reserve-vision-care-exclusive-eyewear-event-07-14-2016-6029
END:VEVENT

END:VCALENDAR
