BEGIN:VCALENDAR
VERSION:2.0
PRODID:-//ChamberMaster//Event Calendar 2.0//EN
METHOD:PUBLISH
X-PUBLISHED-TTL:P3D
REFRESH-INTERVAL:P3D
CALSCALE:GREGORIAN
BEGIN:VEVENT
DTSTART:20171206T163000Z
DTEND:20171206T180000Z
X-MICROSOFT-CDO-ALLDAYEVENT:FALSE
SUMMARY:Western Reserve Safety Council Luncheon
DESCRIPTION:Western Reserve Safety Council Monthly Luncheon\n\n\n\nNovember Program\nTopic:  Slips\, Trips & Falls - Are You Proactive or Reactive?\n\nSpeaker:  Doug Newman\, Comp Management\, Sedgewick\n\n\nTo register for this event\, CLICK HERE
X-ALT-DESC;FMTTYPE=text/html:Western Reserve Safety Council Monthly Luncheon<br />\n<br />\nNovember Program\n<h2>Topic: &nbsp\;Slips\, Trips &amp\; Falls - Are You Proactive or Reactive?</h2>\n\n<h2><span style="font-size: 10pt\;"><span style="font-family: arial\,sans-serif\;"><span style="color: rgb(51\, 51\, 51)\;">Speaker: &nbsp\;Doug Newman\, Comp Management\, Sedgewick</span></span></span></h2>\n<br />\nTo register for this event\, <a href="http://business.westernreservesc.org/events/details/wrsc-program-slips-trips-falls-are-you-proactive-or-reactive-327">CLICK HERE</a>
LOCATION:Mustard Seed Market & Cafe (second floor) 6025 Kruse Drive Solon\, OH 44139
UID:e.368.6324
SEQUENCE:3
DTSTAMP:20260421T043237Z
URL:https://public.beachwood.org/events/details/western-reserve-safety-council-luncheon-6324
END:VEVENT

END:VCALENDAR
