BEGIN:VCALENDAR
VERSION:2.0
PRODID:-//ChamberMaster//Event Calendar 2.0//EN
METHOD:PUBLISH
X-PUBLISHED-TTL:P3D
REFRESH-INTERVAL:P3D
CALSCALE:GREGORIAN
BEGIN:VEVENT
DTSTART:20171101T153000Z
DTEND:20171101T170000Z
X-MICROSOFT-CDO-ALLDAYEVENT:FALSE
SUMMARY:Western Reserve Safety Council Luncheon
DESCRIPTION:Western Reserve Safety Council Monthly Luncheon\n\n\n\nNovember Program\nTopic: Safety Leadership Responsibility - Words and Wisdom from a Safety Leader \n\nSpeaker:  Billy Ring\, Administrative and Technical Consulting Services\n\n\nTo register for this event\, CLICK HERE
X-ALT-DESC;FMTTYPE=text/html:Western Reserve Safety Council Monthly Luncheon<br />\n<br />\nNovember Program\n<h2>Topic: Safety Leadership Responsibility - Words and Wisdom from a Safety Leader&nbsp\;</h2>\n\n<h2><span style="font-size: 10pt\;"><span style="font-family: arial\,sans-serif\;"><span style="color: rgb(51\, 51\, 51)\;">Speaker: &nbsp\;Billy Ring\, Administrative and Technical Consulting Services</span></span></span></h2>\n<br />\nTo register for this event\, <a href="http://business.westernreservesc.org/events/details/wrsc-program-safety-leadership-responsibility-words-and-wisdom-from-a-safety-leader-326">CLICK HERE</a>
LOCATION:Mustard Seed Market & Cafe (second floor) 6025 Kruse Drive Solon\, OH 44139
UID:e.368.6323
SEQUENCE:3
DTSTAMP:20260421T060651Z
URL:https://public.beachwood.org/events/details/western-reserve-safety-council-luncheon-6323
END:VEVENT

END:VCALENDAR
