BEGIN:VCALENDAR
VERSION:2.0
PRODID:-//ChamberMaster//Event Calendar 2.0//EN
METHOD:PUBLISH
X-PUBLISHED-TTL:P3D
REFRESH-INTERVAL:P3D
CALSCALE:GREGORIAN
BEGIN:VEVENT
DTSTART:20171004T153000Z
DTEND:20171004T170000Z
X-MICROSOFT-CDO-ALLDAYEVENT:FALSE
SUMMARY:Western Reserve Safety Council Luncheon
DESCRIPTION:Western Reserve Safety Council Monthly Luncheon\n\n\n\nOctober Program\nTopic: When and Where Will My Next Accident Occur?\n\nPredictive Analytics in Safety\n\nSpeaker:  Chuck Pettinger\, Ph.D. Predictive Solutions Corporation\n\n \n\n\nTo register for this event\, CLICK HERE
X-ALT-DESC;FMTTYPE=text/html:Western Reserve Safety Council Monthly Luncheon<br />\n<br />\nOctober Program\n<h2>Topic: <em>When and Where Will My Next Accident Occur?</em><br />\nPredictive Analytics in Safety</h2>\n\n<h2><span style="font-family:arial\;"><span style="font-size: 10pt\;"><span style="color: rgb(51\, 51\, 51)\;">Speaker:&nbsp\;&nbsp\;</span></span><span style="font-size:11.0pt\;">Chuck Pettinger\, Ph.D. Predictive Solutions Corporation</span></span><br />\n&nbsp\;</h2>\n<br />\nTo register for this event\, <a href="http://business.westernreservesc.org/events/details/wrsc-program-when-and-where-will-my-next-accident-occur-predictive-analytics-in-safety-325">CLICK HERE</a>
LOCATION:Mustard Seed Market & Cafe (second floor) 6025 Kruse Drive Solon\, OH 44139
UID:e.368.6322
SEQUENCE:3
DTSTAMP:20260421T085737Z
URL:https://public.beachwood.org/events/details/western-reserve-safety-council-luncheon-10-04-2017-6322
END:VEVENT

END:VCALENDAR
