BEGIN:VCALENDAR
VERSION:2.0
PRODID:-//ChamberMaster//Event Calendar 2.0//EN
METHOD:PUBLISH
X-PUBLISHED-TTL:P3D
REFRESH-INTERVAL:P3D
CALSCALE:GREGORIAN
BEGIN:VEVENT
DTSTART:20170906T153000Z
DTEND:20170906T170000Z
X-MICROSOFT-CDO-ALLDAYEVENT:FALSE
SUMMARY:Western Reserve Safety Council Luncheon
DESCRIPTION:Western Reserve Safety Council Monthly Luncheon\n\n\n\nSeptember Program\nTopic: Lockout/Tagout\nSpeaker:  Andrew Johnson\, Sotaris\n\n\n\n\n\n\n\nTo register for this event\, CLICK HERE
X-ALT-DESC;FMTTYPE=text/html:Western Reserve Safety Council Monthly Luncheon<br />\n<br />\nSeptember Program\n<h2>Topic: Lockout/Tagout</h2>\n<span style="font-size: 10pt\;"><span style="font-family: arial\,sans-serif\;"><span style="color: rgb(51\, 51\, 51)\;">Speaker:&nbsp\; Andrew Johnson\, Sotaris</span></span></span><br />\n<br />\n<br />\n<br />\nTo register for this event\, <a href="http://business.westernreservesc.org/events/details/wrsc-program-lockout-tagout-324">CLICK HERE</a>
LOCATION:Mustard Seed Market & Cafe (second floor) 6025 Kruse Drive Solon\, OH 44139
UID:e.368.6321
SEQUENCE:3
DTSTAMP:20260421T090507Z
URL:https://public.beachwood.org/events/details/western-reserve-safety-council-luncheon-09-06-2017-6321
END:VEVENT

END:VCALENDAR
