BEGIN:VCALENDAR
VERSION:2.0
PRODID:-//ChamberMaster//Event Calendar 2.0//EN
METHOD:PUBLISH
X-PUBLISHED-TTL:P3D
REFRESH-INTERVAL:P3D
CALSCALE:GREGORIAN
BEGIN:VEVENT
DTSTART:20170802T153000Z
DTEND:20170802T170000Z
X-MICROSOFT-CDO-ALLDAYEVENT:FALSE
SUMMARY:Western Reserve Safety Council Luncheon
DESCRIPTION:Western Reserve Safety Council Monthly Luncheon\n\n\n\nAugust Program\nTopic: Audits\, Stats and Fatalities - OSHA Enforcement Update\nSpeaker:  Howie Eberts\, OSHA Dept of Labor\n\n\n\n\n\nHear first-hand updates by the Occupational Safety and Health Administration (OSHA). You will learn these components:\n\n \n\n                -              Cover OSHA inspection statistics and results\n\n                -              Review recent significant OSHA enforcement actions\n\n                -              Explore results from a study of OSHA fatality inspections\n\n                -              Present OSHA's enforcement plans and initiatives for the upcoming year\n\n\n\nTo register for this event\, CLICK HERE
X-ALT-DESC;FMTTYPE=text/html:Western Reserve Safety Council Monthly Luncheon<br />\n<br />\nAugust Program\n<h2>Topic: Audits\, Stats and Fatalities - OSHA Enforcement Update</h2>\n<span style="font-size: 10pt\;"><span style="font-family: arial\,sans-serif\;"><span style="color: rgb(51\, 51\, 51)\;">Speaker: &nbsp\;Howie&nbsp\;Eberts\, OSHA Dept of Labor</span></span></span><br />\n<br />\n<br />\n<strong><span style="color: rgb(0\, 0\, 0)\; font-family: ">Hear first-hand updates by the Occupational Safety and Health Administration (OSHA). You will learn these components:</span><br />\n&nbsp\;<br />\n<span style="color:#1F497D\;">&nbsp\;&nbsp\;&nbsp\;&nbsp\;&nbsp\;&nbsp\;&nbsp\;&nbsp\;&nbsp\;&nbsp\;&nbsp\;&nbsp\;&nbsp\;&nbsp\;&nbsp\; -&nbsp\;&nbsp\;&nbsp\;&nbsp\;&nbsp\;&nbsp\;&nbsp\;&nbsp\;&nbsp\;&nbsp\;&nbsp\;&nbsp\;&nbsp\; Cover OSHA inspection statistics and results</span><br />\n<span style="color:#1F497D\;">&nbsp\;&nbsp\;&nbsp\;&nbsp\;&nbsp\;&nbsp\;&nbsp\;&nbsp\;&nbsp\;&nbsp\;&nbsp\;&nbsp\;&nbsp\;&nbsp\;&nbsp\; -&nbsp\;&nbsp\;&nbsp\;&nbsp\;&nbsp\;&nbsp\;&nbsp\;&nbsp\;&nbsp\;&nbsp\;&nbsp\;&nbsp\;&nbsp\; Review recent significant OSHA enforcement actions</span><br />\n<span style="color:#1F497D\;">&nbsp\;&nbsp\;&nbsp\;&nbsp\;&nbsp\;&nbsp\;&nbsp\;&nbsp\;&nbsp\;&nbsp\;&nbsp\;&nbsp\;&nbsp\;&nbsp\;&nbsp\; -&nbsp\;&nbsp\;&nbsp\;&nbsp\;&nbsp\;&nbsp\;&nbsp\;&nbsp\;&nbsp\;&nbsp\;&nbsp\;&nbsp\;&nbsp\; Explore results from a study of OSHA fatality inspections</span><br />\n<span style="color:#1F497D\;">&nbsp\;&nbsp\;&nbsp\;&nbsp\;&nbsp\;&nbsp\;&nbsp\;&nbsp\;&nbsp\;&nbsp\;&nbsp\;&nbsp\;&nbsp\;&nbsp\;&nbsp\; -&nbsp\;&nbsp\;&nbsp\;&nbsp\;&nbsp\;&nbsp\;&nbsp\;&nbsp\;&nbsp\;&nbsp\;&nbsp\;&nbsp\;&nbsp\; Present OSHA&rsquo\;s enforcement plans and initiatives for the upcoming year</span></strong><br />\n<br />\nTo register for this event\, <a href="http://business.westernreservesc.org/events/details/wrsc-program-audits-stats-and-fatalities-osha-enforcement-update-323">CLICK HERE</a>
LOCATION:Mustard Seed Market & Cafe (second floor) 6025 Kruse Drive Solon\, OH 44139
UID:e.368.6320
SEQUENCE:3
DTSTAMP:20260421T104754Z
URL:https://public.beachwood.org/events/details/western-reserve-safety-council-luncheon-08-02-2017-6320
END:VEVENT

END:VCALENDAR
