BEGIN:VCALENDAR
VERSION:2.0
PRODID:-//ChamberMaster//Event Calendar 2.0//EN
METHOD:PUBLISH
X-PUBLISHED-TTL:P3D
REFRESH-INTERVAL:P3D
CALSCALE:GREGORIAN
BEGIN:VEVENT
DTSTART:20170705T153000Z
DTEND:20170705T170000Z
X-MICROSOFT-CDO-ALLDAYEVENT:FALSE
SUMMARY:Western Reserve Safety Council Luncheon
DESCRIPTION:Western Reserve Safety Council Monthly Luncheon\n\n\n\nJuly Program\n\n\n\nTopic:  Drug Free Workplace - New Updates\nPlus New Medical Marijuana Law in Ohio\nSpeaker:  Jennifer Sommers\, On Site Help 247\n\n \nYou will learn about drugs and alcohol in the workplace\, dangers\, warning signs\, effects\, discipline\, new trends and best practices on how to handle problems. Program will include:\n\n\n	New Drugs on the Market\n	New Update on Medical Marijuana Law in Ohio\n	How to Handle New Law Changes in Ohio\n	Drug and Alcohol Testing and Your Options\n	Steps on How to Manage a Positive Drug Screen\n\n\n\nTo register for this event\, CLICK HERE
X-ALT-DESC;FMTTYPE=text/html:Western Reserve Safety Council Monthly Luncheon<br />\n<br />\nJuly Program<br />\n<br />\nTopic:&nbsp\; Drug Free Workplace - New Updates\n<h3>Plus New Medical Marijuana&nbsp\;Law in Ohio</h3>\n<span style="font-size: 10pt\;"><span style="font-family: arial\,sans-serif\;"><span style="color: rgb(51\, 51\, 51)\;">Speaker: &nbsp\;Jennifer Sommers\, On Site Help 247</span></span></span><br />\n&nbsp\;\n<p><span style="font-size: 10pt\;"><span style="font-family: arial\, sans-serif\;">You will learn about drugs and alcohol in the workplace\, dangers\, warning signs\, effects\, discipline\, new trends and best practices on how to handle problems.&nbsp\;</span></span>Program will include:</p>\n\n<ul>\n	<li>New Drugs on the Market</li>\n	<li>New Update&nbsp\;on Medical Marijuana Law in Ohio</li>\n	<li>How to Handle New Law Changes in Ohio</li>\n	<li>Drug and Alcohol Testing and Your Options</li>\n	<li>Steps on How to Manage a Positive Drug Screen</li>\n</ul>\n<br />\nTo register for this event\, <a href="http://business.westernreservesc.org/events/details/wrsc-program-drug-free-workplace-new-updates-311">CLICK HERE</a>
LOCATION:Mustard Seed Market & Cafe (second floor) 6025 Kruse Drive Solon\, OH 44139
UID:e.368.6319
SEQUENCE:3
DTSTAMP:20260421T082536Z
URL:https://public.beachwood.org/events/details/western-reserve-safety-council-luncheon-07-05-2017-6319
END:VEVENT

END:VCALENDAR
