BEGIN:VCALENDAR
VERSION:2.0
PRODID:-//ChamberMaster//Event Calendar 2.0//EN
METHOD:PUBLISH
X-PUBLISHED-TTL:P3D
REFRESH-INTERVAL:P3D
CALSCALE:GREGORIAN
BEGIN:VEVENT
DTSTART;VALUE=DATE:20160519
DTEND;VALUE=DATE:20160520
TRANSP:TRANSPARENT
X-MICROSOFT-CDO-ALLDAYEVENT:TRUE
SUMMARY:Wente Wine Tasting at Agostino's
DESCRIPTION:Join us for a fabulous Wine Tasting Event and enjoy five varietals of Wente Wines paired with various delicious food stations. Doors open at 6pm for Happy Hour with Cash Bar. First pour and appetizer station begins at 7pm. Cost is $40.00 per person. Call for Reservations at 216-749-5509 or Reserve online at www.agostinos.events.
X-ALT-DESC;FMTTYPE=text/html:Join us for a fabulous Wine Tasting Event and enjoy five varietals of Wente Wines paired with various delicious food stations. Doors open at 6pm for Happy Hour with Cash Bar. First pour and appetizer station begins at 7pm. Cost is $40.00 per person. Call for Reservations at 216-749-5509 or Reserve online at www.agostinos.events.
LOCATION:Agostino's Catering & Event Center
UID:e.368.4854
SEQUENCE:3
DTSTAMP:20260420T130517Z
URL:https://public.beachwood.org/events/details/wente-wine-tasting-at-agostino-s-05-19-2016-4854
END:VEVENT

END:VCALENDAR
