BEGIN:VCALENDAR
VERSION:2.0
PRODID:-//ChamberMaster//Event Calendar 2.0//EN
METHOD:PUBLISH
X-PUBLISHED-TTL:P3D
REFRESH-INTERVAL:P3D
CALSCALE:GREGORIAN
BEGIN:VEVENT
DTSTART:20081025T020000Z
DTEND:20081026T210000Z
X-MICROSOFT-CDO-ALLDAYEVENT:FALSE
SUMMARY:Weiss Furs-3 day Warehouse Sale
DESCRIPTION:Weiss Furs is holding aWarehouse Bail-Out SaleOpen to the public! Beginning Friday\, October 24th at 10 AM thru Sunday\, October 26th at 5 PMat 23350 Mercantile Road in Beachwood.\nLeathers & ClothEntire Collection 70% off.  Men's/Women's to 8XSt. John/Ann Klein/Hilary Radley/Calvin Klein Leathers starting at $39Other outerwear starting at $9.99Jewelry all 70% off (diamond studs\, diamond bracelets\, 18K gold bracelets & pendants) Men's/Women's Mink Jackets: $699Mink coats vlaued to $5\,000: $899And much more!!!!!
X-ALT-DESC;FMTTYPE=text/html:<div>Weiss Furs is holding a</div><div><font size="3"><strong>Warehouse Bail-Out Sale</strong></font></div><div>Open to the public!</div><div>&nbsp\;</div><div>Beginning Friday\, October 24th at 10 AM thru Sunday\, October 26th at 5 PM</div><div>at 23350 Mercantile Road in Beachwood.</div><div><br /><strong>Leathers &amp\; Cloth</strong></div><div>Entire Collection 70% off.&nbsp\; Men's/Women's to 8X</div><div>St. John/Ann Klein/Hilary Radley/Calvin Klein</div><div>&nbsp\;</div><div>Leathers starting at $39</div><div>Other outerwear starting at $9.99</div><div>Jewelry all 70% off (diamond studs\, diamond bracelets\, 18K gold bracelets &amp\; pendants)</div><div>&nbsp\;</div><div>Men's/Women's <strong>Mink Jackets</strong>: $699</div><div>Mink coats vlaued to $5\,000: $899</div><div>And much more!!!!!</div><div>&nbsp\;</div>
LOCATION:23350 Mercantile RoadBeachwood216-378-2259
UID:e.368.111
SEQUENCE:3
DTSTAMP:20260424T021403Z
URL:https://public.beachwood.org/events/details/weiss-furs-3-day-warehouse-sale-10-24-2008-111
END:VEVENT

END:VCALENDAR
