BEGIN:VCALENDAR
VERSION:2.0
PRODID:-//ChamberMaster//Event Calendar 2.0//EN
METHOD:PUBLISH
X-PUBLISHED-TTL:P3D
REFRESH-INTERVAL:P3D
CALSCALE:GREGORIAN
BEGIN:VEVENT
DTSTART:20180506T130000Z
DTEND:20180506T160000Z
X-MICROSOFT-CDO-ALLDAYEVENT:FALSE
SUMMARY:Walk to Cure Arthritis
DESCRIPTION:The Cleveland Walk to Cure Arthritis attracts over 2\,200 attendees including corporate\, community and family teams\, as well as individuals from across Northeastern Ohio whose lives have been affected by arthritis. The event is a 3-mile walk with a 1-mile option.  Other event highlights include the exclusive Super Star VIP Area and the Health & Wellness Expo. Attendees will enjoy music\, giveaways and much more throughout this family fun day! \n\n\n\nEvent proceeds support the more than 50 million Americans\, including 300\,000 children\, with arthritis.  Funds support the Arthritis Foundation's focus areas such as scientific research\, advocacy and access to care\, juvenile arthritis and vital support resources and tools. \n\n\n\nFor more information and to register\, visit: www.walktocurearthritis.org/Cleveland
X-ALT-DESC;FMTTYPE=text/html:<span style="font-family:century gothic\,sans-serif"><span style="font-size:11.0pt">The Cleveland Walk to Cure Arthritis attracts over 2\,200 attendees including corporate\, community and family teams\, as well as individuals from across Northeastern Ohio whose lives have been affected by arthritis. The event is a 3-mile walk with a 1-mile option.&nbsp\; Other event highlights include the exclusive Super Star VIP Area and the Health &amp\; Wellness Expo. Attendees will enjoy music\, giveaways and much more throughout this family fun day! </span></span><br />\n<br />\n<span style="font-family:century gothic\,sans-serif"><span style="font-size:11.0pt">Event proceeds support the more than 50 million Americans\, including 300\,000 children\, with arthritis. &nbsp\;Funds support the Arthritis Foundation&rsquo\;s focus areas such as scientific research\, advocacy and access to care\, juvenile arthritis and vital support resources and tools.&nbsp\;</span></span><br />\n<br />\n<span style="font-family:century gothic\,sans-serif"><span style="font-size:11.0pt">For more information and to register\, visit: </span></span><span style="font-family:times new roman\,serif"><span style="font-size:12.0pt"><a href="http://www.walktocurearthritis.org/Cleveland"><span style="font-family:century gothic\,sans-serif">www.walktocurearthritis.org/Cleveland</span></a></span></span>&nbsp\;&nbsp\;
LOCATION:Great Lakes Science Center 601 Erieside Ave Cleveland\, OH 44114
UID:e.368.6491
SEQUENCE:3
DTSTAMP:20260420T215840Z
URL:https://public.beachwood.org/events/details/walk-to-cure-arthritis-6491
END:VEVENT

END:VCALENDAR
