BEGIN:VCALENDAR
VERSION:2.0
PRODID:-//ChamberMaster//Event Calendar 2.0//EN
METHOD:PUBLISH
X-PUBLISHED-TTL:P3D
REFRESH-INTERVAL:P3D
CALSCALE:GREGORIAN
BEGIN:VEVENT
DTSTART:20190505T120000Z
DTEND:20190505T150000Z
X-MICROSOFT-CDO-ALLDAYEVENT:FALSE
SUMMARY:Walk to Cure Arthritis 2019
DESCRIPTION:WHAT: The Cleveland Walk to Cure Arthritis attracts more than 1\,000 attendees comprised of friends and family teams\, corporate and healthcare provider teams\, juvenile arthritis families\, community groups and more. The event is a 3-mile walk with a 1-mile option. Event highlights include the Super Star VIP Area for top fundraising teams and individuals and a Health & Wellness Expo for all attendees. Participants will enjoy music\, refreshments\, giveaways and much more throughout this family fun day!\n\n\n\nArthritis is the number one cause of disability in America affecting one in every five adults\, an estimated 300\,000 children and countless families. Whether you are close to the disease or simply looking for an inspiring charity event\, the Walk to Cure Arthritis is a great way to experience the power of standing together and giving back to the community.\n\n\n\nWHY: 100% of your fundraising efforts go directly to the Arthritis Foundation and this great cause. Event proceeds fund critical arthritis research and resources benefiting the 50 million Americans\, including 300\,000 children\, with arthritis\, the nation's leading cause of disability.\n\n\n\nHOW: Start a team or register individually today! walktocurearthritis.org/Cleveland\n\n\n\nCONTACT: Courtney Durbin\n\nDevelopment Director\n\nArthritis Foundation\, Northeastern Ohio\n\n(216) 487-3176 or cdurbin@arthritis.org
X-ALT-DESC;FMTTYPE=text/html:WHAT: The Cleveland Walk to Cure Arthritis attracts more than 1\,000 attendees comprised of friends and family teams\, corporate and healthcare provider teams\, juvenile arthritis families\, community groups and more. The event is a 3-mile walk with a 1-mile option. Event highlights include the Super Star VIP Area for top fundraising teams and individuals and a Health &amp\; Wellness Expo for all attendees. Participants will enjoy music\, refreshments\, giveaways and much more throughout this family fun day!<br />\n<br />\nArthritis is the number one cause of disability in America&mdash\;affecting one in every five adults\, an estimated 300\,000 children and countless families. Whether you are close to the disease or simply looking for an inspiring charity event\, the Walk to Cure Arthritis is a great way to experience the power of standing together and giving back to the community.<br />\n<br />\nWHY: 100% of your fundraising efforts go directly to the Arthritis Foundation and this great cause. Event proceeds fund critical arthritis research and resources benefiting the 50 million Americans\, including 300\,000 children\, with arthritis\, the nation&rsquo\;s leading cause of disability.<br />\n<br />\nHOW: Start a team or register individually today! walktocurearthritis.org/Cleveland<br />\n<br />\nCONTACT: Courtney Durbin<br />\nDevelopment Director<br />\nArthritis Foundation\, Northeastern Ohio<br />\n(216) 487-3176 or cdurbin@arthritis.org
LOCATION:WHERE: Great Lakes Science Center 601 Erieside Ave\, Cleveland\, OH 44114
UID:e.368.8043
SEQUENCE:3
DTSTAMP:20260422T084424Z
URL:https://public.beachwood.org/events/details/walk-to-cure-arthritis-2019-8043
END:VEVENT

END:VCALENDAR
