BEGIN:VCALENDAR
VERSION:2.0
PRODID:-//ChamberMaster//Event Calendar 2.0//EN
METHOD:PUBLISH
X-PUBLISHED-TTL:P3D
REFRESH-INTERVAL:P3D
CALSCALE:GREGORIAN
BEGIN:VEVENT
DTSTART:20171115T163000Z
DTEND:20171116T030000Z
X-MICROSOFT-CDO-ALLDAYEVENT:FALSE
SUMMARY:Wagyu & Wine
DESCRIPTION:
X-ALT-DESC;FMTTYPE=text/html:
LOCATION:The Capital Grille\, Legacy Village
UID:e.368.6403
SEQUENCE:3
DTSTAMP:20260421T060350Z
URL:https://public.beachwood.org/events/details/wagyu-wine-11-15-2017-6403
END:VEVENT

END:VCALENDAR
