BEGIN:VCALENDAR
VERSION:2.0
PRODID:-//ChamberMaster//Event Calendar 2.0//EN
METHOD:PUBLISH
X-PUBLISHED-TTL:P3D
REFRESH-INTERVAL:P3D
CALSCALE:GREGORIAN
BEGIN:VEVENT
DTSTART:20170918T153000Z
DTEND:20170919T020000Z
X-MICROSOFT-CDO-ALLDAYEVENT:FALSE
SUMMARY:Wagyu & Wine
DESCRIPTION:
X-ALT-DESC;FMTTYPE=text/html:
LOCATION:The Capital Grille\, Legacy Village
UID:e.368.6345
SEQUENCE:3
DTSTAMP:20260421T085344Z
URL:https://public.beachwood.org/events/details/wagyu-wine-09-18-2017-6345
END:VEVENT

END:VCALENDAR
