BEGIN:VCALENDAR
VERSION:2.0
PRODID:-//ChamberMaster//Event Calendar 2.0//EN
METHOD:PUBLISH
X-PUBLISHED-TTL:P3D
REFRESH-INTERVAL:P3D
CALSCALE:GREGORIAN
BEGIN:VEVENT
DTSTART:20140514T200000Z
DTEND:20140514T210000Z
X-MICROSOFT-CDO-ALLDAYEVENT:FALSE
SUMMARY:Volunteer Opportunities with BVU: The Center for Non Profit Excellence
DESCRIPTION:Are you wanting to volunteer and don't know where to begin? Join Roseanne Deucher\, Director of the Volunteer Center at BVU to hear about the various ways that you can give back to a nonprofit in need. Volunteers serve as board members\, pro bono consults and hands on direct service. Hear about how you can find an opportunity that connects your skills and passion with helping others.
X-ALT-DESC;FMTTYPE=text/html:Are you wanting to volunteer and don&rsquo\;t know where to begin? Join Roseanne Deucher\, Director of the Volunteer Center at BVU to hear about the various ways that you can give back to a nonprofit in need. Volunteers serve as board members\, pro bono consults and hands on direct service. Hear about how you can find an opportunity that connects your skills and passion with helping others.
LOCATION:Beachwood Branch of Cuyahoga County Public Library 25501 Shaker Blvd Beachwood OH 44122
UID:e.368.1101
SEQUENCE:3
DTSTAMP:20260420T074608Z
URL:https://public.beachwood.org/events/details/volunteer-opportunities-with-bvu-the-center-for-non-profit-excellence-05-14-2014-1101
END:VEVENT

END:VCALENDAR
