BEGIN:VCALENDAR
VERSION:2.0
PRODID:-//ChamberMaster//Event Calendar 2.0//EN
METHOD:PUBLISH
X-PUBLISHED-TTL:P3D
REFRESH-INTERVAL:P3D
CALSCALE:GREGORIAN
BEGIN:VEVENT
DTSTART:20211208T133000Z
DTEND:20211208T143000Z
X-MICROSOFT-CDO-ALLDAYEVENT:FALSE
SUMMARY:Virtual Speed Networking
DESCRIPTION:Join us for a virtual Speed Networking event with members from the 19 different regional and international Chambers of Commerce that comprise the Collaborative Chambers Alliance (CCA). Grab your coffee and prepare to meet with other professionals from around Northeast Ohio in small groups to make new connections and expand your network.\n\nThis event is free of charge. \n\n\n\nTo register for this event\, click here.
X-ALT-DESC;FMTTYPE=text/html:<p style="margin: 0px\; padding: 0px\; color: rgb(111\, 114\, 135)\; font-size: 16px\; line-height: 1.5rem\; font-family: &quot\;Neue Plak&quot\;\, -apple-system\, BlinkMacSystemFont\, Roboto\, &quot\;Helvetica Neue&quot\;\, Helvetica\, Tahoma\, Arial\, sans-serif\; letter-spacing: 0.5px\;">Join us for a virtual Speed Networking event with members from the 19 different regional and international Chambers of Commerce that comprise the Collaborative Chambers Alliance (CCA). Grab your coffee and prepare to meet with other professionals from around Northeast Ohio in small groups to make new connections and expand your network.</p>\n\n<p style="margin: 0px\; padding: 10px 0px 0px\; color: rgb(111\, 114\, 135)\; font-size: 16px\; line-height: 1.5rem\; font-family: &quot\;Neue Plak&quot\;\, -apple-system\, BlinkMacSystemFont\, Roboto\, &quot\;Helvetica Neue&quot\;\, Helvetica\, Tahoma\, Arial\, sans-serif\; letter-spacing: 0.5px\;">This event is free of charge.&nbsp\;<br />\n<br />\n<span style="font-size:18px\;"><strong>To register for this event\, <a href="https://www.eventbrite.com/e/virtual-speed-networking-tickets-206028285147">click here</a>.</strong></span></p>\n
LOCATION:Virtual event via Zoom. See flyer for meeting ID and passcode. Link and details will also be sent to attendees in advance.
UID:e.368.8444
SEQUENCE:3
DTSTAMP:20260421T154424Z
URL:https://public.beachwood.org/events/details/virtual-speed-networking-8444
END:VEVENT

END:VCALENDAR
