BEGIN:VCALENDAR
VERSION:2.0
PRODID:-//ChamberMaster//Event Calendar 2.0//EN
METHOD:PUBLISH
X-PUBLISHED-TTL:P3D
REFRESH-INTERVAL:P3D
CALSCALE:GREGORIAN
BEGIN:VEVENT
DTSTART;VALUE=DATE:20081109
DTEND;VALUE=DATE:20081110
TRANSP:TRANSPARENT
X-MICROSOFT-CDO-ALLDAYEVENT:TRUE
SUMMARY:Veterans Appreciation Event-McCormick & Schmick's
DESCRIPTION:McCormick & Schmick's Seafood RestaurantsSalute U.S. MilitaryVeterans in Beachwood  Popular Sunday event enables veterans' families to dine together   McCormick & Schmick's Seafood Restaurants has announced that its seafood restaurant in Beachwood will host its annual Veterans Appreciation Event\, and will offer all U.S. military veterans a complimentary entr e on Sunday\, Nov. 9\, 2008\, in appreciation for their service to our country. Based on the success of the last several years\, the McCormick & Schmick's Veterans Appreciation event will again be held on the Sunday prior to the formal Veterans Day holiday.  As in past years\, McCormick & Schmick's will offer this program to those defined as a veteran by the Veterans Administration\, Title 38 US Code 101\, which is a person who served in the active military\, naval\, or air service\, and who was discharged or released under conditions other than dishonorable. All veterans must show proper identification.  For more information\, click here\, for the entire press release regarding this program.
X-ALT-DESC;FMTTYPE=text/html:<div><st1:personname w:st="on"><span style="font-size: 16pt\; color: black"><h4 class="MsoNormal" style="margin: 0in 0in 0pt\; text-align: center\; mso-outline-level: 1" align="center"><st1:personname w:st="on"><span style="font-size: 16pt\; color: black">McCormick &amp\; Schmick&rsquo\;s </span></st1:personname></h4><h4 class="MsoNormal" style="margin: 0in 0in 0pt\; text-align: center\; mso-outline-level: 1" align="center"><st1:personname w:st="on"><span style="font-size: 16pt\; color: black">Seafood Restaurants</span></st1:personname></h4><h4 class="MsoNormal" style="margin: 0in 0in 0pt\; text-align: center\; mso-outline-level: 1" align="center"><span style="font-size: 16pt\; color: black">Salute <st1:country-region w:st="on"><st1:place w:st="on">U.S.</st1:place></st1:country-region> Military</span></h4><h4 class="MsoNormal" style="margin: 0in 0in 0pt\; text-align: center\; mso-outline-level: 1" align="center"><span style="font-size: 16pt\; color: black">Veterans in Beachwood<o:p></o:p></span></h4><h5 class="MsoNormal" style="margin: 0in 0in 0pt\; text-align: center" align="center"><span><span style="mso-spacerun: yes">&nbsp\; </span>Popular Sunday event enables veterans&rsquo\; families to dine together&nbsp\;</span>&nbsp\;</h5></span></st1:personname></div><p class="MsoNormal" style="margin: 0in 0in 0pt\; text-align: center\; mso-outline-level: 1" align="center"><strong style="mso-bidi-font-weight: normal"><span style="font-size: 11pt\; color: black"><o:p><font size="2">&nbsp\;</font></o:p></span></strong></p><p class="MsoNormal" style="margin: 0in 0in 0pt\; text-align: justify\; mso-layout-grid-align: none"><span style="font-size: 11pt"><font size="2"><st1:personname w:st="on">McCormick &amp\; Schmick&rsquo\;s</st1:personname> Seafood Restaurants has announced that its seafood restaurant in Beachwood will host its annual Veterans Appreciation Event\, and will offer all <st1:country-region w:st="on"><st1:place w:st="on">U.S.</st1:place></st1:country-region> military veterans a complimentary entr&eacute\;e on <strong style="mso-bidi-font-weight: normal">Sunday\, Nov. 9\, 2008</strong>\, in appreciation for their service to our country.</font></span></p><div><span style="font-size: 11pt"><o:p><p class="MsoNormal" style="margin: 0in 0in 0pt">&nbsp\;</p><p class="MsoNormal" style="margin: 0in 0in 0pt"><span style="font-size: 11pt"><font size="2">Based on the success of the last several years\, the <st1:personname w:st="on">McCormick &amp\; Schmick&rsquo\;s</st1:personname> Veterans Appreciation event will again be held on the Sunday prior to the formal Veterans Day holiday. <o:p></o:p></font></span></p><p class="MsoNormal" style="margin: 0in 0in 0pt"><span style="font-size: 11pt"><o:p><font size="2">&nbsp\;</font></o:p></span></p><p class="MsoNormal" style="margin: 0in 0in 0pt\; text-align: justify\; mso-layout-grid-align: none"><span style="font-size: 11pt\; font-family: &quot\;Times New Roman&quot\;\; mso-fareast-font-family: &rsquo\;Times New Roman&rsquo\;\; mso-ansi-language: EN-US\; mso-fareast-language: EN-US\; mso-bidi-language: AR-SA"><font face="Arial" size="2">As in past years\, McCormick &amp\; Schmick&rsquo\;s will offer this program to those defined as a veteran by the Veterans Administration\, Title 38 US Code 101\, which is a person who served in the active military\, naval\, or air service\, and who was discharged or released under conditions other than dishonorable. All veterans must show proper identification. </font></span></p><p class="MsoNormal" style="margin: 0in 0in 0pt\; text-align: justify\; mso-layout-grid-align: none">&nbsp\;</p><p class="MsoNormal" style="margin: 0in 0in 0pt\; text-align: justify\; mso-layout-grid-align: none"><span style="font-size: 11pt\; font-family: &quot\;Times New Roman&quot\;\; mso-fareast-font-family: &rsquo\;Times New Roman&rsquo\;\; mso-ansi-language: EN-US\; mso-fareast-language: EN-US\; mso-bidi-language: AR-SA"><font face="Arial" color="#333399" size="2"><strong>For more information\, <a href="https://secure.chambermaster.com/FCKeditor/UserFiles/chambers/368/File/Veteran&rsquo\;s Appreciation 2008 press release.pdf">click here</a>\, for the entire press release regarding this program.</strong></font></span></p><span style="font-size: 11pt"><o:p><p class="MsoNormal" style="margin: 0in 0in 0pt\; text-align: justify\; mso-layout-grid-align: none">&nbsp\;</p></o:p></span></o:p></span></div>
LOCATION:McCormick & Schmick's Seafood RestaurantBeachwood Place Mall26300 Cedar Road
UID:e.368.112
SEQUENCE:3
DTSTAMP:20260424T005342Z
URL:https://public.beachwood.org/events/details/veterans-appreciation-event-mccormick-schmick-s-11-09-2008-112
END:VEVENT

END:VCALENDAR
